BEGIN:VCALENDAR
VERSION:2.0
PRODID:-//The Ark - ECPv6.15.20//NONSGML v1.0//EN
CALSCALE:GREGORIAN
METHOD:PUBLISH
X-ORIGINAL-URL:https://theark.org
X-WR-CALDESC:Events for The Ark
REFRESH-INTERVAL;VALUE=DURATION:PT1H
X-Robots-Tag:noindex
X-PUBLISHED-TTL:PT1H
BEGIN:VTIMEZONE
TZID:America/Detroit
BEGIN:DAYLIGHT
TZOFFSETFROM:-0500
TZOFFSETTO:-0400
TZNAME:EDT
DTSTART:20250309T070000
END:DAYLIGHT
BEGIN:STANDARD
TZOFFSETFROM:-0400
TZOFFSETTO:-0500
TZNAME:EST
DTSTART:20251102T060000
END:STANDARD
BEGIN:DAYLIGHT
TZOFFSETFROM:-0500
TZOFFSETTO:-0400
TZNAME:EDT
DTSTART:20260308T070000
END:DAYLIGHT
BEGIN:STANDARD
TZOFFSETFROM:-0400
TZOFFSETTO:-0500
TZNAME:EST
DTSTART:20261101T060000
END:STANDARD
BEGIN:DAYLIGHT
TZOFFSETFROM:-0500
TZOFFSETTO:-0400
TZNAME:EDT
DTSTART:20270314T070000
END:DAYLIGHT
BEGIN:STANDARD
TZOFFSETFROM:-0400
TZOFFSETTO:-0500
TZNAME:EST
DTSTART:20271107T060000
END:STANDARD
END:VTIMEZONE
BEGIN:VEVENT
DTSTART;TZID=America/Detroit:20260409T213000
DTEND;TZID=America/Detroit:20260409T230000
DTSTAMP:20260419T212938
CREATED:20260224T201439Z
LAST-MODIFIED:20260320T165722Z
UID:10001180-1775770200-1775775600@theark.org
SUMMARY:James McMurtry Duo feat. BettySoo: The Black Dog and the Wandering Boy
DESCRIPTION:“One of America’s greatest living songwriters.” (Rolling Stone) Texas-based songwriter and guitarist James McMurtry is a supremely insightful and inventive storyteller whose fans include everyone from Stephen King to John Mellencamp. Funny and sad often in the same breath\, McMurtry teases vivid worlds out of small details\, crafting searingly honest lyrics set against a rock/Americana backdrop. His Ypsilanti Freighthouse debut draws from his 2025 album The Black Dog and the Wandering Boy. The story-songs on that album find inspiration in scraps from his family’s past: a rough pencil sketch by Ken Kesey that serves as the album cover; the hallucinations experienced by his father\, the legendary writer Larry McMurtry; an old poem by a family friend. “A solid smorgasbord of aging\, Americana\, and arrested development.” (The Austin Chronicle) \nTwo performances\, 7:00pm and 9:30pm \nPRESENTING SPONSOR\nMatt and Nicole Lester
URL:https://theark.org/event/james-mcmurtry-the-black-dog-and-the-wandering-boy/2026-04-09/2/
LOCATION:Ypsilanti Freighthouse\, 100 Market Pl\, Ypsilanti\, MI\, 48198\, United States
CATEGORIES:Low Ticket Alert,Special Event
ATTACH;FMTTYPE=image/jpeg:https://theark.org/wp-content/uploads/2026/02/James-McMurtry-5-by-Mary-Keating-Bruton-PREFERRED-scaled.jpg
END:VEVENT
BEGIN:VEVENT
DTSTART;TZID=America/Detroit:20260409T190000
DTEND;TZID=America/Detroit:20260409T203000
DTSTAMP:20260419T212938
CREATED:20260224T201439Z
LAST-MODIFIED:20260320T165722Z
UID:10001179-1775761200-1775766600@theark.org
SUMMARY:James McMurtry Duo feat. BettySoo: The Black Dog and the Wandering Boy
DESCRIPTION:“One of America’s greatest living songwriters.” (Rolling Stone) Texas-based songwriter and guitarist James McMurtry is a supremely insightful and inventive storyteller whose fans include everyone from Stephen King to John Mellencamp. Funny and sad often in the same breath\, McMurtry teases vivid worlds out of small details\, crafting searingly honest lyrics set against a rock/Americana backdrop. His Ypsilanti Freighthouse debut draws from his 2025 album The Black Dog and the Wandering Boy. The story-songs on that album find inspiration in scraps from his family’s past: a rough pencil sketch by Ken Kesey that serves as the album cover; the hallucinations experienced by his father\, the legendary writer Larry McMurtry; an old poem by a family friend. “A solid smorgasbord of aging\, Americana\, and arrested development.” (The Austin Chronicle) \nTwo performances\, 7:00pm and 9:30pm \nPRESENTING SPONSOR\nMatt and Nicole Lester
URL:https://theark.org/event/james-mcmurtry-the-black-dog-and-the-wandering-boy/2026-04-09/1/
LOCATION:Ypsilanti Freighthouse\, 100 Market Pl\, Ypsilanti\, MI\, 48198\, United States
CATEGORIES:Low Ticket Alert,Special Event
ATTACH;FMTTYPE=image/jpeg:https://theark.org/wp-content/uploads/2026/02/James-McMurtry-5-by-Mary-Keating-Bruton-PREFERRED-scaled.jpg
END:VEVENT
END:VCALENDAR