BEGIN:VCALENDAR
VERSION:2.0
PRODID:-//The Ark - ECPv6.15.20//NONSGML v1.0//EN
CALSCALE:GREGORIAN
METHOD:PUBLISH
X-WR-CALNAME:The Ark
X-ORIGINAL-URL:https://theark.org
X-WR-CALDESC:Events for The Ark
REFRESH-INTERVAL;VALUE=DURATION:PT1H
X-Robots-Tag:noindex
X-PUBLISHED-TTL:PT1H
BEGIN:VTIMEZONE
TZID:America/Detroit
BEGIN:DAYLIGHT
TZOFFSETFROM:-0500
TZOFFSETTO:-0400
TZNAME:EDT
DTSTART:20240310T070000
END:DAYLIGHT
BEGIN:STANDARD
TZOFFSETFROM:-0400
TZOFFSETTO:-0500
TZNAME:EST
DTSTART:20241103T060000
END:STANDARD
BEGIN:DAYLIGHT
TZOFFSETFROM:-0500
TZOFFSETTO:-0400
TZNAME:EDT
DTSTART:20250309T070000
END:DAYLIGHT
BEGIN:STANDARD
TZOFFSETFROM:-0400
TZOFFSETTO:-0500
TZNAME:EST
DTSTART:20251102T060000
END:STANDARD
BEGIN:DAYLIGHT
TZOFFSETFROM:-0500
TZOFFSETTO:-0400
TZNAME:EDT
DTSTART:20260308T070000
END:DAYLIGHT
BEGIN:STANDARD
TZOFFSETFROM:-0400
TZOFFSETTO:-0500
TZNAME:EST
DTSTART:20261101T060000
END:STANDARD
END:VTIMEZONE
BEGIN:VEVENT
DTSTART;TZID=America/Detroit:20251002T200000
DTEND;TZID=America/Detroit:20251002T230000
DTSTAMP:20260424T153503
CREATED:20250904T140030Z
LAST-MODIFIED:20250929T195012Z
UID:10001018-1759435200-1759446000@theark.org
SUMMARY:VOICES ft. Jade Nicole and Ki5
DESCRIPTION:Ticket prices on our website reflect all-in pricing for purchases made online or by phone.  This means the price you see includes the ticket price plus MUTO’s ticket processing fee. Tickets may be purchased with no included fees in person at The Ark during box office hours. \nJade Nicole is a singer/songwriter and background vocalist from the Metro Detroit area. Since a teenager\, Jade has used songwriting as a tool to understand the world around them and the world within them. This process began a decade long journey of finding their voice\, getting comfortable with sharing\, and trusting in their vision and dreams. Now\, with the goal of inviting people to cry at their shows\, Jade shares personal and vulnerable stories of their life and relationships through deeply honest lyrics and heartfelt melodies. Over time\, Jade learned that their art is most powerful when it is shared with others\, vulnerably and with intention. To be witnessed is to be alive\, and this is something dear to the heart of this artist. \nPrepare to be spellbound as the mesmerizing loop station magic of Ki5 reimagines your favorite R&B\, pop\, and soul hits with the finesse of an a cappella virtuoso. His performance is a soul-stirring experience that transcends genres and defies expectations. Once again\, he’s not just bringing you music – he’s taking you on an exhilarating journey through the sonic universe as soulfully written vocal lines collide in real time.  \nDrawing inspiration from musical luminaries like Reggie Watts\, Bobby McFerrin\, and Bon Iver\, Ki5’s authentic\, empathetic\, and liberating style is nothing short of transformative. His artistry has catapulted him to the spotlight\, sharing stages with legends such as Erykah Badu\, CeCe Peniston\, and Reggie Watts – a testament to his boundless versatility as both an artist and a show-stopping performer. \nVoices is a series of artist-cultivated concerts at The Ark conceived and created by Ann Arbor musician Kyler Wilkins\, AKA vocal looping artist Ki5. The series seeks to expand the representation of Michigan BIPOC artists and audiences at The Ark. Each show\, intentional time will be taken to get to know each artist in the form of brief interviews and musical breaks to have them speak about their journey as musicians and performers with the hope that people in the audience are more connected to and inspired by those voices.
URL:https://theark.org/event/voices-jade-nicole/
LOCATION:The Ark\, 316 S. Main\, Ann Arbor\, MI\, 48104\, United States
CATEGORIES:Voices Series
ATTACH;FMTTYPE=image/jpeg:https://theark.org/wp-content/uploads/2025/09/Jade-Nicole-3-e1757694044187.jpg
END:VEVENT
BEGIN:VEVENT
DTSTART;TZID=America/Detroit:20250822T200000
DTEND;TZID=America/Detroit:20250822T230000
DTSTAMP:20260424T153503
CREATED:20250619T140006Z
LAST-MODIFIED:20250709T134832Z
UID:10000956-1755892800-1755903600@theark.org
SUMMARY:VOICES feat Ki5 with Aviva Match & Where She Creep
DESCRIPTION:Ticket prices on our website reflect all-in pricing for purchases made online or by phone.  This means the price you see includes the ticket price plus MUTO’s ticket processing fee. Tickets may be purchased with no included fees in person at The Ark during box office hours. \nVoices is a series of artist-cultivated concerts at The Ark conceived and created by Ann Arbor musician Kyler Wilkins\, AKA vocal looping artist Ki5. The series seeks to expand the representation of Michigan BIPOC artists and audiences at The Ark. Each show\, intentional time will be taken to get to know each artist in the form of brief interviews and musical breaks to have them speak about their journey as musicians and performers with the hope that people in the audience are more connected to and inspired by those voices.
URL:https://theark.org/event/voices-feat-where-she-creep-and-ki5-250822/
LOCATION:The Ark\, 316 S. Main\, Ann Arbor\, MI\, 48104\, United States
CATEGORIES:Voices Series
ATTACH;FMTTYPE=image/jpeg:https://theark.org/wp-content/uploads/2025/06/ki5-2024-green-ldsp-web-scaled.jpg
END:VEVENT
BEGIN:VEVENT
DTSTART;TZID=America/Detroit:20250608T190000
DTEND;TZID=America/Detroit:20250608T230000
DTSTAMP:20260424T153503
CREATED:20250313T200404Z
LAST-MODIFIED:20250522T191907Z
UID:10000862-1749409200-1749423600@theark.org
SUMMARY:VOICES: featuring London Beck and Zoey Grekin
DESCRIPTION:Ticket prices on our website reflect all-in pricing for purchases made online or by phone.  This means the price you see includes the ticket price plus MUTO’s ticket processing fee. Tickets may be purchased with no included fees in person at The Ark during box office hours. \nThis performance it free to attend for high school students thanks to a grant from Larry and Lucy Nisson. \nLondon Beck\, an innovative recording artist from Southeast Michigan\, embodies the true definition of a multi-hyphenate creative. As a singer\, songwriter\, producer\, composer\, sound engineer\, and multi-instrumentalist\, Beck has carved a unique space for themselves as a leader in modern music. Their body of work includes standout releases such as Blinded by Hunger (2018)\, Revelations EP (2018)\, Drift EP (2019)\, and the concept album ANGXL (2020). Beck’s captivating performances at venues like the Ann Arbor Summer Festival and The Ark have garnered acclaim\, leading to accolades such as Best New Artist in Washtenaw County by Current Magazine. Their community influence extends through collaborations\, including composing for the Skyline High School Symphony Orchestra\, and their involvement with Amplify Washtenaw to support local BIPOC creatives. \nAfter a brief hiatus\, Beck returned stronger than ever\, launching Renivere Recording in 2024—a production company and exclusive record label dedicated to empowering artists and fostering safe\, creative spaces. Beck’s impact continued with a live performance on The Seven Series in June 2024\, marking their official return to the music scene. In addition to their musical achievements\, Beck hosts The Waveform\, a podcast exploring music\, artistry\, and entrepreneurship through time. With their visionary approach\, talent\, and dedication to inclusive artistry\, London Beck is poised to inspire and innovate for years to come. \nZoey Grekin is a dynamic young artist\, multi-instrumentalist\, singer\, and songwriter whose soulful sound draws inspiration from a wide range of artists including Beyoncé\, Stevie Wonder\, Sara Bareilles\, Alicia Keys\, Ingrid Michaelson\, Adele\, and Bruno Mars. Known for her commanding vocals and powerful drumming\, Zoey brings a unique energy to every performance—often driving the rhythm section while delivering emotive\, expressive vocals. \nRaised in a musical family\, Zoey grew up immersed in music at the Grekin School of Music\, where she learned to play a variety of instruments and developed her musical voice. She is currently a student at Ann Arbor’s Pioneer High School\, where she has performed as a singer\, and a featured drummer playing along with the Pioneer Choir and Orchestra and performed in the Pioneer Theatre Guild’s 2025 production of Future Stars. \nZoey has performed extensively around Ann Arbor and Ypsilanti\, both as a solo artist and with her band\, and continues to explore new musical directions with every performance. She is thrilled to bring her sound to The Ark stage. \nVoices is a series of artist-cultivated concerts at The Ark conceived and created by Ann Arbor musician Kyler Wilkins\, AKA vocal looping artist Ki5. The series seeks to expand the representation of Michigan BIPOC artists and audiences at The Ark. Each show\, intentional time will be taken to get to know each artist in the form of brief interviews and musical breaks to have them speak about their journey as musicians and performers with the hope that people in the audience are more connected to and inspired by those voices.
URL:https://theark.org/event/voices-featuring-london-beck-and-zoey-grekin/
LOCATION:The Ark\, 316 S. Main\, Ann Arbor\, MI\, 48104\, United States
CATEGORIES:Voices Series
ATTACH;FMTTYPE=image/png:https://theark.org/wp-content/uploads/2025/03/Zoey-London.png
END:VEVENT
BEGIN:VEVENT
DTSTART;TZID=America/Detroit:20250306T200000
DTEND;TZID=America/Detroit:20250306T230000
DTSTAMP:20260424T153503
CREATED:20250206T150037Z
LAST-MODIFIED:20250306T165305Z
UID:10000819-1741291200-1741302000@theark.org
SUMMARY:VOICES featuring Kyler Wilkins & Joe Reilly and the Community Gardeners
DESCRIPTION:The elevator at The Ark is out of service while technicians make repairs. Attendees for this show will need to be able to walk up and down the stairs to the second floor of The Ark where the show takes place. \nJoe Reilly is a singer\, songwriter\, social worker\, and educator from Michigan who writes songs from his heart. Joe’s songs are playful\, clever\, engaging\, joyful\, and always have something meaningful to say. The core of his message is an invitation to heal our relationships with our selves\, with each other\, and with the earth. Joe uses his music to bring people together and build community across lines of race\, class\, gender\, ethnicity\, religion\, age\, and nationality. Joe is Italian\, Irish\, and Native American (Cherokee) and was raised in Kalamazoo\, Michigan in a creative household by musical parents who encouraged him to find his own voice. Joe loves to inspire others to do the same and to water seeds of compassion\, joy\, wisdom\, and peace in our collective consciousness through the sharing of his music. \nKyler Wilkins\, the mastermind behind the mesmerizing loop station magic of Ki5\, will open the night with a special acoustic set.  \nVoices is a series of artist-cultivated concerts at The Ark conceived and created by Ann Arbor musician Kyler Wilkins\, AKA vocal looping artist Ki5. The series seeks to expand the representation of Michigan BIPOC artists and audiences at The Ark. Each show\, intentional time will be taken to get to know each artist in the form of brief interviews and musical breaks to have them speak about their journey as musicians and performers with the hope that people in the audience are more connected to and inspired by those voices. \nPhoto credit Silver Thumb Photography
URL:https://theark.org/event/voices-featuring-kyler-wilkins-joe-reilly-and-the-community-gardeners/
LOCATION:The Ark\, 316 S. Main\, Ann Arbor\, MI\, 48104\, United States
CATEGORIES:Voices Series
ATTACH;FMTTYPE=image/jpeg:https://theark.org/wp-content/uploads/2025/02/Joe-and-Community-Gardeners-in-Alley-Blurred.jpg
END:VEVENT
END:VCALENDAR