BEGIN:VCALENDAR
VERSION:2.0
PRODID:-//The Ark - ECPv6.15.20//NONSGML v1.0//EN
CALSCALE:GREGORIAN
METHOD:PUBLISH
X-WR-CALNAME:The Ark
X-ORIGINAL-URL:https://theark.org
X-WR-CALDESC:Events for The Ark
REFRESH-INTERVAL;VALUE=DURATION:PT1H
X-Robots-Tag:noindex
X-PUBLISHED-TTL:PT1H
BEGIN:VTIMEZONE
TZID:America/Detroit
BEGIN:DAYLIGHT
TZOFFSETFROM:-0500
TZOFFSETTO:-0400
TZNAME:EDT
DTSTART:20250309T070000
END:DAYLIGHT
BEGIN:STANDARD
TZOFFSETFROM:-0400
TZOFFSETTO:-0500
TZNAME:EST
DTSTART:20251102T060000
END:STANDARD
BEGIN:DAYLIGHT
TZOFFSETFROM:-0500
TZOFFSETTO:-0400
TZNAME:EDT
DTSTART:20260308T070000
END:DAYLIGHT
BEGIN:STANDARD
TZOFFSETFROM:-0400
TZOFFSETTO:-0500
TZNAME:EST
DTSTART:20261101T060000
END:STANDARD
BEGIN:DAYLIGHT
TZOFFSETFROM:-0500
TZOFFSETTO:-0400
TZNAME:EDT
DTSTART:20270314T070000
END:DAYLIGHT
BEGIN:STANDARD
TZOFFSETFROM:-0400
TZOFFSETTO:-0500
TZNAME:EST
DTSTART:20271107T060000
END:STANDARD
END:VTIMEZONE
BEGIN:VEVENT
DTSTART;TZID=America/Detroit:20260313T200000
DTEND;TZID=America/Detroit:20260313T230000
DTSTAMP:20260419T120025
CREATED:20250909T140012Z
LAST-MODIFIED:20260225T150842Z
UID:10001025-1773432000-1773442800@theark.org
SUMMARY:Dar Williams
DESCRIPTION:Ticket prices on our website reflect all-in pricing for purchases made online or by phone.  This means the price you see includes the ticket price plus MUTO’s ticket processing fee. Tickets may be purchased with no included fees in person at The Ark during box office hours. \n“It’s a highway\, filled with deep\, exotic colors and beautiful delicate things as well as the perils that come from moving so fast\,” says Dar Williams\, describing modern life. On her 13th album\, Hummingbird Highway\, out September 12 on Righteous Babe Records\, Williams celebrates the colors she glimpses from her vantage as a touring musician. “I was a kid from the suburbs who listened when her hippie teachers said to get out in the world\,” Williams muses. Hummingbird Highway is the latest chapter in a richly unfolding story. Drawing on her experience as a playwright\, Williams populates her latest album with nuanced characters that come alive in the space of a few minutes.
URL:https://theark.org/event/dar-williams-260313/
LOCATION:The Ark\, 316 S. Main\, Ann Arbor\, MI\, 48104\, United States
CATEGORIES:Sold Out
ATTACH;FMTTYPE=image/jpeg:https://theark.org/wp-content/uploads/2023/06/Dar-Williams-Press-Photo-scaled-1.jpg
END:VEVENT
END:VCALENDAR