BEGIN:VCALENDAR
VERSION:2.0
PRODID:-//The Ark - ECPv6.15.20//NONSGML v1.0//EN
CALSCALE:GREGORIAN
METHOD:PUBLISH
X-ORIGINAL-URL:https://theark.org
X-WR-CALDESC:Events for The Ark
REFRESH-INTERVAL;VALUE=DURATION:PT1H
X-Robots-Tag:noindex
X-PUBLISHED-TTL:PT1H
BEGIN:VTIMEZONE
TZID:America/Detroit
BEGIN:DAYLIGHT
TZOFFSETFROM:-0500
TZOFFSETTO:-0400
TZNAME:EDT
DTSTART:20240310T070000
END:DAYLIGHT
BEGIN:STANDARD
TZOFFSETFROM:-0400
TZOFFSETTO:-0500
TZNAME:EST
DTSTART:20241103T060000
END:STANDARD
BEGIN:DAYLIGHT
TZOFFSETFROM:-0500
TZOFFSETTO:-0400
TZNAME:EDT
DTSTART:20250309T070000
END:DAYLIGHT
BEGIN:STANDARD
TZOFFSETFROM:-0400
TZOFFSETTO:-0500
TZNAME:EST
DTSTART:20251102T060000
END:STANDARD
BEGIN:DAYLIGHT
TZOFFSETFROM:-0500
TZOFFSETTO:-0400
TZNAME:EDT
DTSTART:20260308T070000
END:DAYLIGHT
BEGIN:STANDARD
TZOFFSETFROM:-0400
TZOFFSETTO:-0500
TZNAME:EST
DTSTART:20261101T060000
END:STANDARD
END:VTIMEZONE
BEGIN:VEVENT
DTSTART;TZID=America/Detroit:20251109T193000
DTEND;TZID=America/Detroit:20251109T230000
DTSTAMP:20260421T114216
CREATED:20250530T150024Z
LAST-MODIFIED:20250821T153344Z
UID:10000929-1762716600-1762729200@theark.org
SUMMARY:Mon Rovîa
DESCRIPTION:“I’m Mon\, born in Mon Rovia\, Liberia. My life can be summed up by being born into a civil war\, escaping the life of a child soldier\, rescued by the hands of missionaries. Spent a lot of my developmental years living in a variety of places with a number of life experiences. And then layered on top of all of this is the assimilation I felt being a transracially adopted refugee. My music in a nutshell is a culmination of these experiences blended with the empathy I feel for the experiences with others. The mission of my music is to heal with others – with every nation and tongue\, in due time.” \nMon Rovîa has partnered with PLUS1 so that $1 per ticket goes to supporting Hurricane Helene relief in partnership with Habitat for Humanity of TN. Habitat for Humanity is a global nonprofit organization dedicated to building and improving homes for families in need. As a local affiliate\, Habitat for Humanity of Tennessee is actively responding to the aftermath of Hurricane Helene. While immediate emergency response is ongoing\, Habitat for Humanity’s primary role will be in the long-term recovery of disaster-stricken communities.
URL:https://theark.org/event/mon-rovia-251109/
LOCATION:The Ark\, 316 S. Main\, Ann Arbor\, MI\, 48104\, United States
CATEGORIES:Sold Out
ATTACH;FMTTYPE=image/jpeg:https://theark.org/wp-content/uploads/2025/05/Mon-Rovia-photo-2025-2-web-scaled-e1748455146455.jpg
END:VEVENT
END:VCALENDAR