BEGIN:VCALENDAR
VERSION:2.0
PRODID:-//The Ark - ECPv6.15.20//NONSGML v1.0//EN
CALSCALE:GREGORIAN
METHOD:PUBLISH
X-ORIGINAL-URL:https://theark.org
X-WR-CALDESC:Events for The Ark
REFRESH-INTERVAL;VALUE=DURATION:PT1H
X-Robots-Tag:noindex
X-PUBLISHED-TTL:PT1H
BEGIN:VTIMEZONE
TZID:America/Detroit
BEGIN:DAYLIGHT
TZOFFSETFROM:-0500
TZOFFSETTO:-0400
TZNAME:EDT
DTSTART:20240310T070000
END:DAYLIGHT
BEGIN:STANDARD
TZOFFSETFROM:-0400
TZOFFSETTO:-0500
TZNAME:EST
DTSTART:20241103T060000
END:STANDARD
BEGIN:DAYLIGHT
TZOFFSETFROM:-0500
TZOFFSETTO:-0400
TZNAME:EDT
DTSTART:20250309T070000
END:DAYLIGHT
BEGIN:STANDARD
TZOFFSETFROM:-0400
TZOFFSETTO:-0500
TZNAME:EST
DTSTART:20251102T060000
END:STANDARD
BEGIN:DAYLIGHT
TZOFFSETFROM:-0500
TZOFFSETTO:-0400
TZNAME:EDT
DTSTART:20260308T070000
END:DAYLIGHT
BEGIN:STANDARD
TZOFFSETFROM:-0400
TZOFFSETTO:-0500
TZNAME:EST
DTSTART:20261101T060000
END:STANDARD
END:VTIMEZONE
BEGIN:VEVENT
DTSTART;TZID=America/Detroit:20251104T200000
DTEND;TZID=America/Detroit:20251104T230000
DTSTAMP:20260421T162326
CREATED:20250416T131003Z
LAST-MODIFIED:20250513T155804Z
UID:10000888-1762286400-1762297200@theark.org
SUMMARY:Hot Tuna
DESCRIPTION:Ticket prices on our website reflect all-in pricing for purchases made online or by phone.  This means the price you see includes the ticket price plus MUTO’s ticket processing fee. Tickets may be purchased with no included fees in person at The Ark during box office hours. \nHot Tuna\, an iconic American blues rock band\, has been delivering a profound musical experience to audiences pushing six decades. With founding members Jorma Kaukonen and Jack Casady at its helm\, the band has constantly evolved\, continually injecting fresh energy and improvisation into their sound. \nTheir live performances are legendary and known for their spontaneity and energy. The band’s ability to improvise and create unique musical moments on stage has garnered them a dedicated following. Each concert is a testament to their musicianship and deep connection with the audience. \nHot Tuna’s journey is a testament to the enduring power of passion\, creativity\, and innovation. From their roots in Jefferson Airplane to their status as blues-rock legends\, Jorma Kaukonen and Jack Casady have left an indelible mark on the music world. Hot Tuna remains one of American music’s most innovative Rock and Roll bands\, continuing to inspire and captivate audiences with their timeless sound and unwavering dedication to their craft.
URL:https://theark.org/event/hot-tuna-251104/
LOCATION:The Ark\, 316 S. Main\, Ann Arbor\, MI\, 48104\, United States
CATEGORIES:Sold Out
ATTACH;FMTTYPE=image/jpeg:https://theark.org/wp-content/uploads/2025/04/ht_horizontal_web_10_25.jpg
END:VEVENT
END:VCALENDAR