BEGIN:VCALENDAR
VERSION:2.0
PRODID:-//The Ark - ECPv6.15.20//NONSGML v1.0//EN
CALSCALE:GREGORIAN
METHOD:PUBLISH
X-WR-CALNAME:The Ark
X-ORIGINAL-URL:https://theark.org
X-WR-CALDESC:Events for The Ark
REFRESH-INTERVAL;VALUE=DURATION:PT1H
X-Robots-Tag:noindex
X-PUBLISHED-TTL:PT1H
BEGIN:VTIMEZONE
TZID:America/Detroit
BEGIN:DAYLIGHT
TZOFFSETFROM:-0500
TZOFFSETTO:-0400
TZNAME:EDT
DTSTART:20240310T070000
END:DAYLIGHT
BEGIN:STANDARD
TZOFFSETFROM:-0400
TZOFFSETTO:-0500
TZNAME:EST
DTSTART:20241103T060000
END:STANDARD
BEGIN:DAYLIGHT
TZOFFSETFROM:-0500
TZOFFSETTO:-0400
TZNAME:EDT
DTSTART:20250309T070000
END:DAYLIGHT
BEGIN:STANDARD
TZOFFSETFROM:-0400
TZOFFSETTO:-0500
TZNAME:EST
DTSTART:20251102T060000
END:STANDARD
BEGIN:DAYLIGHT
TZOFFSETFROM:-0500
TZOFFSETTO:-0400
TZNAME:EDT
DTSTART:20260308T070000
END:DAYLIGHT
BEGIN:STANDARD
TZOFFSETFROM:-0400
TZOFFSETTO:-0500
TZNAME:EST
DTSTART:20261101T060000
END:STANDARD
END:VTIMEZONE
BEGIN:VEVENT
DTSTART;TZID=America/Detroit:20250908T200000
DTEND;TZID=America/Detroit:20250908T230000
DTSTAMP:20260421T204610
CREATED:20250610T140011Z
LAST-MODIFIED:20250807T140931Z
UID:10000943-1757361600-1757372400@theark.org
SUMMARY:The Milk Carton Kids
DESCRIPTION:Founded in 2011\, The Milk Carton Kids — Joey Ryan and Kenneth Pattengale — swiftly emerged as a major force in the American folk tradition\, blending ethereal harmonies and intricate musicianship with a uniquely powerful brand of contemporary songcraft. Their 2013 debut The Ash & Clay marked their national breakthrough\, earning them their first Grammy Award nomination for Best Folk Album. Another Grammy nomination followed in 2015 for Best American Roots Performance with “The City of Our Lady” from their acclaimed third studio album\, Monterey\, and their 2018 album All The Things That I Did and All The Things That I Didn’t Do received a Grammy nomination for Best Engineered Album\, Non-Classical. They received their fourth Grammy nomination for 2022’s I Only See The Moon\, nominated for “Best Folk Album.” \n“Both of us have now lived enough life to understand that maybe one of the purposes we were put on Earth for is to sing together\, to write songs together\, to make music together\,” notes guitarist/vocalist Kenneth Pattengale. “It has truly provided a direction for our lives.” Ryan adds\, “It’s like a successful marriage in that there’s always been enough there between us collaboratively in the way that we work together\, sing together\, play together. It’s a very special thing. And I don’t think we ever took that for granted.”
URL:https://theark.org/event/the-milk-carton-kids-250908/
LOCATION:The Ark\, 316 S. Main\, Ann Arbor\, MI\, 48104\, United States
CATEGORIES:Sold Out
ATTACH;FMTTYPE=image/png:https://theark.org/wp-content/uploads/2025/06/TMCK-250908-4x5-1-e1749484314717.png
END:VEVENT
END:VCALENDAR