BEGIN:VCALENDAR
VERSION:2.0
PRODID:-//The Ark - ECPv6.15.20//NONSGML v1.0//EN
CALSCALE:GREGORIAN
METHOD:PUBLISH
X-ORIGINAL-URL:https://theark.org
X-WR-CALDESC:Events for The Ark
REFRESH-INTERVAL;VALUE=DURATION:PT1H
X-Robots-Tag:noindex
X-PUBLISHED-TTL:PT1H
BEGIN:VTIMEZONE
TZID:America/Detroit
BEGIN:DAYLIGHT
TZOFFSETFROM:-0500
TZOFFSETTO:-0400
TZNAME:EDT
DTSTART:20250309T070000
END:DAYLIGHT
BEGIN:STANDARD
TZOFFSETFROM:-0400
TZOFFSETTO:-0500
TZNAME:EST
DTSTART:20251102T060000
END:STANDARD
BEGIN:DAYLIGHT
TZOFFSETFROM:-0500
TZOFFSETTO:-0400
TZNAME:EDT
DTSTART:20260308T070000
END:DAYLIGHT
BEGIN:STANDARD
TZOFFSETFROM:-0400
TZOFFSETTO:-0500
TZNAME:EST
DTSTART:20261101T060000
END:STANDARD
BEGIN:DAYLIGHT
TZOFFSETFROM:-0500
TZOFFSETTO:-0400
TZNAME:EDT
DTSTART:20270314T070000
END:DAYLIGHT
BEGIN:STANDARD
TZOFFSETFROM:-0400
TZOFFSETTO:-0500
TZNAME:EST
DTSTART:20271107T060000
END:STANDARD
END:VTIMEZONE
BEGIN:VEVENT
DTSTART;TZID=America/Detroit:20260224T200000
DTEND;TZID=America/Detroit:20260224T230000
DTSTAMP:20260420T194531
CREATED:20251028T141134Z
LAST-MODIFIED:20251028T151415Z
UID:10001074-1771963200-1771974000@theark.org
SUMMARY:Emily Scott Robinson
DESCRIPTION:On her third album with Oh Boy Records\, and her fifth since beginning her career a decade ago\, Emily Scott Robinson once again unveils her mastery as a performer and storyteller. With her 2026 release Appalachia — recorded at Dreamland Recording Studios with Grammy-nominated producer Josh Kaufman — Robinson opens herself up to experimentation and sings in her crystal-clear voice about resilience\, love\, grief and hope. \nRobinson’s talent is no surprise to the music industry — she’s now a veteran touring artist\, both at home and abroad. Her records Traveling Mercies (2019) and American Siren (2021) each landed high on Rolling Stone’s “Best Country and Americana Albums” and Stereogum’s “10 Best Country Albums” year-end lists. She’s been lauded by the Washington Post\, Billboard\, American Songwriter and No Depression\, and earned the 19th spot on NPR’s “100 Best Songs of 2021” with her song “Let ‘Em Burn.” \nIt was her 2020 release “The Time for Flowers\,” an anthem of hope recorded at home in the midst of the global pandemic\, that caught the attention of Oh Boy Records\, the independent label founded by John Prine in 1981. Robinson jumped at the opportunity to join the free-spirited and beloved record label carrying on her hero’s legacy. \nRobinson believes the songs on Appalachia are the best she’s ever written — she sings about her grandmother slipping into dementia\, a cash-only saloon full of characters\, and gratitude for life\, despite its hardships. The album features a duet with Grammy winner John Paul White that celebrates the kind of  love that comes with scars and age\, and a hymn for anyone who’s ever failed or fallen short. \n“There’s this thing I do with every record I make\,” she says. “I knit a prayer into it\, and I ask for all these songs to find their way to everyone who needs them. I ask these songs to be of service\, to help people find and experience joy.” \n​The Ark’s Artist Spotlight Series is made possible with support from Ford Philanthropy. It is presented live\, and also livestreamed on The Ark’s Facebook page and YouTube channel. \nTonight’s show is FREE (nonperishables accepted for Food Gatherers).
URL:https://theark.org/event/emily-scott-robinson-260224/
LOCATION:The Ark\, 316 S. Main\, Ann Arbor\, MI\, 48104\, United States
CATEGORIES:Artist Spotlight Series
ATTACH;FMTTYPE=image/jpeg:https://theark.org/wp-content/uploads/2025/10/ESR-Appalachia-Cover-Angelina-Castillo-scaled.jpg
END:VEVENT
END:VCALENDAR