BEGIN:VCALENDAR
VERSION:2.0
PRODID:-//The Ark - ECPv6.15.20//NONSGML v1.0//EN
CALSCALE:GREGORIAN
METHOD:PUBLISH
X-ORIGINAL-URL:https://theark.org
X-WR-CALDESC:Events for The Ark
REFRESH-INTERVAL;VALUE=DURATION:PT1H
X-Robots-Tag:noindex
X-PUBLISHED-TTL:PT1H
BEGIN:VTIMEZONE
TZID:America/Detroit
BEGIN:DAYLIGHT
TZOFFSETFROM:-0500
TZOFFSETTO:-0400
TZNAME:EDT
DTSTART:20250309T070000
END:DAYLIGHT
BEGIN:STANDARD
TZOFFSETFROM:-0400
TZOFFSETTO:-0500
TZNAME:EST
DTSTART:20251102T060000
END:STANDARD
BEGIN:DAYLIGHT
TZOFFSETFROM:-0500
TZOFFSETTO:-0400
TZNAME:EDT
DTSTART:20260308T070000
END:DAYLIGHT
BEGIN:STANDARD
TZOFFSETFROM:-0400
TZOFFSETTO:-0500
TZNAME:EST
DTSTART:20261101T060000
END:STANDARD
BEGIN:DAYLIGHT
TZOFFSETFROM:-0500
TZOFFSETTO:-0400
TZNAME:EDT
DTSTART:20270314T070000
END:DAYLIGHT
BEGIN:STANDARD
TZOFFSETFROM:-0400
TZOFFSETTO:-0500
TZNAME:EST
DTSTART:20271107T060000
END:STANDARD
END:VTIMEZONE
BEGIN:VEVENT
DTSTART;TZID=America/Detroit:20261111T200000
DTEND;TZID=America/Detroit:20261111T230000
DTSTAMP:20260420T022624
CREATED:20260211T150054Z
LAST-MODIFIED:20260210T192754Z
UID:10001169-1794427200-1794438000@theark.org
SUMMARY:Hiss Golden Messenger
DESCRIPTION:Ticket prices on our website reflect all-in pricing for purchases made online or by phone.  This means the price you see includes the ticket price plus MUTO’s ticket processing fee. Tickets may be purchased with no included fees in person at The Ark during box office hours. \nHiss Golden Messenger is the long-running musical project led by North Carolina-based singer\, songwriter\, and producer M.C. Taylor. The project has evolved over the last decade into one of the most respected and celebrated in contemporary Americana\, blending folk\, country\, soul and gospel influences with deeply introspective\, poetic\, and conscious songwriting.  \nAcross multiple critically acclaimed\, Grammy nominated albums\, Hiss Golden Messenger has become known for its warmth and emotional clarity\, as well as Taylor’s ability to connect the personal and poetic with the political without losing intimacy or musical grace.  \nThe forthcoming I’m People continues this trajectory\, offering a reflective collection of songs that speaks to resilience\, community\, radical hopefulness\, and the quiet human moments that animate and illuminate the everyday. It is among Taylor’s greatest and most profound work.  \nHiss Golden Messenger sits naturally alongside artists and releases that value craft\, storytelling\, and authenticity\, and aligns well with audiences attuned to indie\, folk\, Americana\, roots\, and contemporary country music. \nVIP Package includes:\nOne (1) general admission ticket to see Hiss Golden Messenger live\nHear MC Taylor play some songs featured in current setlists\nQ&A: Ask MC some questions (Got questions about gear? Songwriting? Ask away!)\nTake a group photo\nTour poster signed by MC\nCommemorative VIP laminate\nHiss merch shopping before doors open to the public\nEarly entry into the venue
URL:https://theark.org/event/hiss-golden-messenger-261111/
LOCATION:The Ark\, 316 S. Main\, Ann Arbor\, MI\, 48104\, United States
ATTACH;FMTTYPE=image/jpeg:https://theark.org/wp-content/uploads/2026/02/MIKETAYLOR_25-140-1-__COVER-ART-IMAGE__-copy-scaled.jpg
END:VEVENT
END:VCALENDAR