BEGIN:VCALENDAR
VERSION:2.0
PRODID:-//The Ark - ECPv6.15.20//NONSGML v1.0//EN
CALSCALE:GREGORIAN
METHOD:PUBLISH
X-WR-CALNAME:The Ark
X-ORIGINAL-URL:https://theark.org
X-WR-CALDESC:Events for The Ark
REFRESH-INTERVAL;VALUE=DURATION:PT1H
X-Robots-Tag:noindex
X-PUBLISHED-TTL:PT1H
BEGIN:VTIMEZONE
TZID:America/Detroit
BEGIN:DAYLIGHT
TZOFFSETFROM:-0500
TZOFFSETTO:-0400
TZNAME:EDT
DTSTART:20250309T070000
END:DAYLIGHT
BEGIN:STANDARD
TZOFFSETFROM:-0400
TZOFFSETTO:-0500
TZNAME:EST
DTSTART:20251102T060000
END:STANDARD
BEGIN:DAYLIGHT
TZOFFSETFROM:-0500
TZOFFSETTO:-0400
TZNAME:EDT
DTSTART:20260308T070000
END:DAYLIGHT
BEGIN:STANDARD
TZOFFSETFROM:-0400
TZOFFSETTO:-0500
TZNAME:EST
DTSTART:20261101T060000
END:STANDARD
BEGIN:DAYLIGHT
TZOFFSETFROM:-0500
TZOFFSETTO:-0400
TZNAME:EDT
DTSTART:20270314T070000
END:DAYLIGHT
BEGIN:STANDARD
TZOFFSETFROM:-0400
TZOFFSETTO:-0500
TZNAME:EST
DTSTART:20271107T060000
END:STANDARD
END:VTIMEZONE
BEGIN:VEVENT
DTSTART;TZID=America/Detroit:20261029T200000
DTEND;TZID=America/Detroit:20261029T230000
DTSTAMP:20260419T143838
CREATED:20260327T140011Z
LAST-MODIFIED:20260324T193237Z
UID:10001220-1793304000-1793314800@theark.org
SUMMARY:Kylee Phillips
DESCRIPTION:Ticket prices on our website reflect all-in pricing for purchases made online or by phone.  This means the price you see includes the ticket price plus MUTO’s ticket processing fee. Tickets may be purchased with no included fees in person at The Ark during box office hours. \nMichigan native singer/songwriter Kylee Phillips is releasing her first full length album – “Before I Am Invisible” – an ambitious collection of sensual\, articulate\, and unpretentiously therapeutic pop anthems. This long-awaited\, expertly percolated record couldn’t be more timely\, giving voice to the memories\, desires\, rages\, joys\, and insights of a deeply grounded woman who has found the one place she won’t be talked over. \nPhillips will be celebrating her album release with a full band release show\, bringing her songs to their intended sonic depth with dense guitar\, drum\, and synth arrangements. Fans of her beloved\, vulnerable listening room performances will finally get a taste of Phillips at her full potential\, full power and full volume.
URL:https://theark.org/event/kylee-phillips-261029/
LOCATION:The Ark\, 316 S. Main\, Ann Arbor\, MI\, 48104\, United States
ATTACH;FMTTYPE=image/jpeg:https://theark.org/wp-content/uploads/2026/03/Bergeron_Kylee_2024-7870-1-e1774380649363.jpg
END:VEVENT
END:VCALENDAR