BEGIN:VCALENDAR
VERSION:2.0
PRODID:-//The Ark - ECPv6.15.20//NONSGML v1.0//EN
CALSCALE:GREGORIAN
METHOD:PUBLISH
X-WR-CALNAME:The Ark
X-ORIGINAL-URL:https://theark.org
X-WR-CALDESC:Events for The Ark
REFRESH-INTERVAL;VALUE=DURATION:PT1H
X-Robots-Tag:noindex
X-PUBLISHED-TTL:PT1H
BEGIN:VTIMEZONE
TZID:America/Detroit
BEGIN:DAYLIGHT
TZOFFSETFROM:-0500
TZOFFSETTO:-0400
TZNAME:EDT
DTSTART:20250309T070000
END:DAYLIGHT
BEGIN:STANDARD
TZOFFSETFROM:-0400
TZOFFSETTO:-0500
TZNAME:EST
DTSTART:20251102T060000
END:STANDARD
BEGIN:DAYLIGHT
TZOFFSETFROM:-0500
TZOFFSETTO:-0400
TZNAME:EDT
DTSTART:20260308T070000
END:DAYLIGHT
BEGIN:STANDARD
TZOFFSETFROM:-0400
TZOFFSETTO:-0500
TZNAME:EST
DTSTART:20261101T060000
END:STANDARD
BEGIN:DAYLIGHT
TZOFFSETFROM:-0500
TZOFFSETTO:-0400
TZNAME:EDT
DTSTART:20270314T070000
END:DAYLIGHT
BEGIN:STANDARD
TZOFFSETFROM:-0400
TZOFFSETTO:-0500
TZNAME:EST
DTSTART:20271107T060000
END:STANDARD
END:VTIMEZONE
BEGIN:VEVENT
DTSTART;TZID=America/Detroit:20261023T200000
DTEND;TZID=America/Detroit:20261023T230000
DTSTAMP:20260419T075802
CREATED:20260416T140046Z
LAST-MODIFIED:20260414T162526Z
UID:10001251-1792785600-1792796400@theark.org
SUMMARY:Jackopierce
DESCRIPTION:Ticket prices on our website reflect all-in pricing for purchases made online or by phone.  This means the price you see includes the ticket price plus MUTO’s ticket processing fee. Tickets may be purchased with no included fees in person at The Ark during box office hours. \nJack O’Neill and Cary Pierce\, the “Jacko” and “Pierce\,” make up the seminal duo Jackopierce. They’ve been making music for 35 years that has amassed a loyal following of millions of fans around the world with their high-energy live shows. \nJackopierce began in 1988 as theater students at the legendary Meadows School of the Arts at SMU in Dallas. The duo steadily made a name for themselves\, and within 5 years\, they were signed to major label A&M and recording their debut\, “Bringing on the Weather” with uber-producer\, T Bone Burnett. They have toured three continents\, nine countries\, and 46 states. They have shared the stage with John Mayer\, Dave Matthews\, Matchbox20\, Counting Crows\, Wallflowers\, Sheryl Crow\, Toad the Wet Sprocket\, Vertical Horizon\, Lyle Lovett – to name a few. After a five-year breakup\, the guys reunited in 2002 to test the waters. They were warm – and the guys have been back together ever since.   \nJackopierce is busier than ever before\, releasing new music monthly and touring all across the country. Jack & Cary have a totally renewed creative vigor\, mutual respect and deep gratitude for each other and their fans. “Even after 35 years I feel like we’re just getting started\,” said Cary. “I love this guy like a brother\,” says Jack. 
URL:https://theark.org/event/jackopierce-261023/
LOCATION:The Ark\, 316 S. Main\, Ann Arbor\, MI\, 48104\, United States
ATTACH;FMTTYPE=image/jpeg:https://theark.org/wp-content/uploads/2026/04/Jackopierce_9488_hr.jpg
END:VEVENT
END:VCALENDAR