BEGIN:VCALENDAR
VERSION:2.0
PRODID:-//The Ark - ECPv6.15.20//NONSGML v1.0//EN
CALSCALE:GREGORIAN
METHOD:PUBLISH
X-ORIGINAL-URL:https://theark.org
X-WR-CALDESC:Events for The Ark
REFRESH-INTERVAL;VALUE=DURATION:PT1H
X-Robots-Tag:noindex
X-PUBLISHED-TTL:PT1H
BEGIN:VTIMEZONE
TZID:America/Detroit
BEGIN:DAYLIGHT
TZOFFSETFROM:-0500
TZOFFSETTO:-0400
TZNAME:EDT
DTSTART:20250309T070000
END:DAYLIGHT
BEGIN:STANDARD
TZOFFSETFROM:-0400
TZOFFSETTO:-0500
TZNAME:EST
DTSTART:20251102T060000
END:STANDARD
BEGIN:DAYLIGHT
TZOFFSETFROM:-0500
TZOFFSETTO:-0400
TZNAME:EDT
DTSTART:20260308T070000
END:DAYLIGHT
BEGIN:STANDARD
TZOFFSETFROM:-0400
TZOFFSETTO:-0500
TZNAME:EST
DTSTART:20261101T060000
END:STANDARD
BEGIN:DAYLIGHT
TZOFFSETFROM:-0500
TZOFFSETTO:-0400
TZNAME:EDT
DTSTART:20270314T070000
END:DAYLIGHT
BEGIN:STANDARD
TZOFFSETFROM:-0400
TZOFFSETTO:-0500
TZNAME:EST
DTSTART:20271107T060000
END:STANDARD
END:VTIMEZONE
BEGIN:VEVENT
DTSTART;TZID=America/Detroit:20261022T200000
DTEND;TZID=America/Detroit:20261022T230000
DTSTAMP:20260420T022514
CREATED:20260305T150019Z
LAST-MODIFIED:20260303T155755Z
UID:10001193-1792699200-1792710000@theark.org
SUMMARY:Buffalo Rose
DESCRIPTION:Ticket prices on our website reflect all-in pricing for purchases made online or by phone.  This means the price you see includes the ticket price plus MUTO’s ticket processing fee. Tickets may be purchased with no included fees in person at The Ark during box office hours. \n​Buffalo Rose is a singularly spectacular six-piece band from Pittsburgh\, PA. Overflowing with the bold and unfettered joy of their inimitable blend of “Theatre Kid Americana\,” a Buffalo Rose show is a celebration of creative wonder; a sparkling sonic delight. Their live show is where their energy fully shines\, and songwriting is their lodestar. The band’s recorded catalog is full of vibrantly emotive and methodically arranged songs\, sure to thrill the mind and charm the heart. \nAt the start of the year\, the Pittsburgh-based band released a record of covers entitled All You Can Eat. Produced by the band and Malcolm Inglis\, All You Can Eat is a snapshot into the musical universe that creates Buffalo Rose’s genre defying sound. This release welcomes them into a new era; one of joyful play\, of explosive color and sound\, of boundless potential and pure fun.
URL:https://theark.org/event/buffalo-rose-261022/
LOCATION:The Ark\, 316 S. Main\, Ann Arbor\, MI\, 48104\, United States
ATTACH;FMTTYPE=image/jpeg:https://theark.org/wp-content/uploads/2026/03/JQ2A2271-copy-scaled-e1772553389437.jpg
END:VEVENT
END:VCALENDAR