BEGIN:VCALENDAR
VERSION:2.0
PRODID:-//The Ark - ECPv6.15.20//NONSGML v1.0//EN
CALSCALE:GREGORIAN
METHOD:PUBLISH
X-ORIGINAL-URL:https://theark.org
X-WR-CALDESC:Events for The Ark
REFRESH-INTERVAL;VALUE=DURATION:PT1H
X-Robots-Tag:noindex
X-PUBLISHED-TTL:PT1H
BEGIN:VTIMEZONE
TZID:America/Detroit
BEGIN:DAYLIGHT
TZOFFSETFROM:-0500
TZOFFSETTO:-0400
TZNAME:EDT
DTSTART:20250309T070000
END:DAYLIGHT
BEGIN:STANDARD
TZOFFSETFROM:-0400
TZOFFSETTO:-0500
TZNAME:EST
DTSTART:20251102T060000
END:STANDARD
BEGIN:DAYLIGHT
TZOFFSETFROM:-0500
TZOFFSETTO:-0400
TZNAME:EDT
DTSTART:20260308T070000
END:DAYLIGHT
BEGIN:STANDARD
TZOFFSETFROM:-0400
TZOFFSETTO:-0500
TZNAME:EST
DTSTART:20261101T060000
END:STANDARD
BEGIN:DAYLIGHT
TZOFFSETFROM:-0500
TZOFFSETTO:-0400
TZNAME:EDT
DTSTART:20270314T070000
END:DAYLIGHT
BEGIN:STANDARD
TZOFFSETFROM:-0400
TZOFFSETTO:-0500
TZNAME:EST
DTSTART:20271107T060000
END:STANDARD
END:VTIMEZONE
BEGIN:VEVENT
DTSTART;TZID=America/Detroit:20261016T200000
DTEND;TZID=America/Detroit:20261016T230000
DTSTAMP:20260419T174859
CREATED:20260127T202505Z
LAST-MODIFIED:20260127T202902Z
UID:10001156-1792180800-1792191600@theark.org
SUMMARY:Mike Dawes
DESCRIPTION:Ticket prices on our website reflect all-in pricing for purchases made online or by phone.  This means the price you see includes the ticket price plus MUTO’s ticket processing fee. Tickets may be purchased with no included fees in person at The Ark during box office hours. \nMike Dawes is an English guitarist known for composing\, arranging\, and performing multiple parts simultaneously on a single guitar. He is regarded as one of the world’s most creative modern fingerstyle guitarists\, with a repertoire spanning original viral videos and popular arrangements\, alongside mainstream chart success performing with Justin Hayward of The Moody Blues. \nDawes was named ‘Best Acoustic Guitarist in the World’ two years in a row (2017 & 2018) by Total Guitar Magazine & MusicRadar reader polls\, with numerous 2nd place rankings in the proceeding years. YouTube personality Rick Beato named Mike ‘one of the finest acoustic guitar players in the world.’ \nHis debut release\, a solo guitar arrangement of Gotye’s ‘Somebody That I Used to Know\,’ quickly became a viral hit with tens of millions of views on YouTube. This success has been duplicated and expanded upon numerous times since with songs like ‘One\,’ ‘The Impossible\,’ and ‘Jump’ across multiple video platforms. \nHis reputation has invited him opportunities to collaborate with GRAMMY Award-winning artists such as Tommy Emmanuel\, with whom he recorded the duet record ‘Accomplice Vol. 3\,’ and the GRAMMY-nominated metal band Periphery\, with whom Mike joined on their 2024 double single release. \nMike Dawes’ VIP workshop experience includes \n\n One (1) General Admission ticket \n Invitation to pre-show experience with Mike Dawes\, including:\nMeet & greet and photo opportunity\nIntimate guitar workshop\nPerformance of an exclusive song not in the setlist\nEarly entry into the venue\nEarly merch shopping before doors open to the public\nVIP Exclusive pack of Mike Dawes’ personal D’addario XS DADGAD strings\nCommemorative VIP laminate\nLimited availability\n\nTickets purchased for Mike Dawes’ February 12 show are valid for tonight’s performance.
URL:https://theark.org/event/mike-dawes-261016/
LOCATION:The Ark\, 316 S. Main\, Ann Arbor\, MI\, 48104\, United States
ATTACH;FMTTYPE=image/jpeg:https://theark.org/wp-content/uploads/2025/10/Mike-Dawes-6-Credit-Olly-Curtis-Photography-web-scaled.jpg
END:VEVENT
END:VCALENDAR