BEGIN:VCALENDAR
VERSION:2.0
PRODID:-//The Ark - ECPv6.15.20//NONSGML v1.0//EN
CALSCALE:GREGORIAN
METHOD:PUBLISH
X-ORIGINAL-URL:https://theark.org
X-WR-CALDESC:Events for The Ark
REFRESH-INTERVAL;VALUE=DURATION:PT1H
X-Robots-Tag:noindex
X-PUBLISHED-TTL:PT1H
BEGIN:VTIMEZONE
TZID:America/Detroit
BEGIN:DAYLIGHT
TZOFFSETFROM:-0500
TZOFFSETTO:-0400
TZNAME:EDT
DTSTART:20250309T070000
END:DAYLIGHT
BEGIN:STANDARD
TZOFFSETFROM:-0400
TZOFFSETTO:-0500
TZNAME:EST
DTSTART:20251102T060000
END:STANDARD
BEGIN:DAYLIGHT
TZOFFSETFROM:-0500
TZOFFSETTO:-0400
TZNAME:EDT
DTSTART:20260308T070000
END:DAYLIGHT
BEGIN:STANDARD
TZOFFSETFROM:-0400
TZOFFSETTO:-0500
TZNAME:EST
DTSTART:20261101T060000
END:STANDARD
BEGIN:DAYLIGHT
TZOFFSETFROM:-0500
TZOFFSETTO:-0400
TZNAME:EDT
DTSTART:20270314T070000
END:DAYLIGHT
BEGIN:STANDARD
TZOFFSETFROM:-0400
TZOFFSETTO:-0500
TZNAME:EST
DTSTART:20271107T060000
END:STANDARD
END:VTIMEZONE
BEGIN:VEVENT
DTSTART;TZID=America/Detroit:20261015T200000
DTEND;TZID=America/Detroit:20261015T230000
DTSTAMP:20260420T022752
CREATED:20260324T160033Z
LAST-MODIFIED:20260324T140028Z
UID:10001215-1792094400-1792105200@theark.org
SUMMARY:Off Book - Tour de Force (A Force of Tour)
DESCRIPTION:Ticket prices on our website reflect all-in pricing for purchases made online or by phone.  This means the price you see includes the ticket price plus MUTO’s ticket processing fee. Tickets may be purchased with no included fees in person at The Ark during box office hours. \nJessic and Zach wrote and composed music for the WGA award-winning Peacock Series Baking It starring Maya Rudolph\, Amy Poehler and Andy Samberg. The duo has also written songs and musical sketches for the hit animation show Rick and Morty\, Party Over Here (a Fox sketch show produced by The Lonely Island)\, the Peacock series Pitch Perfect: Bumper In Berlin\, Buzzfeed\, FunnyOrDie and Nickelodeon. Zach and Jess are currently developing TV and Film projects with Amy Poehler’s Paper Kite Productions\, David Wain (The State\, Role Models\, Wanderlust) and Elizabeth Banks’ Brownstone Productions. They also created and starred in Serious Music\, a digital series for ABC.  \nTheir improvised musical podcast Off Book has been praised by various online publications including Indie Wire\, USA Today\, Parade\, AV Club and Splitsider and been featured at Comedy Central’s Clusterfest Festival\, Moontower\, the world renowned Just For Laughs Festival in Montreal\, and the Netflix Is A Joke Festival in LA. Zach and Jess were listed as one of Vulture’s “Comedians You Should and Will Know” and in early 2019 they released their first full-length musical comedy album The Calendar Album with Comedy Dynamics.
URL:https://theark.org/event/off-book-tour-de-force-a-force-of-tour/
LOCATION:The Ark\, 316 S. Main\, Ann Arbor\, MI\, 48104\, United States
ATTACH;FMTTYPE=image/jpeg:https://theark.org/wp-content/uploads/2025/01/OffBookMusical-scaled-1-scaled-e1736364981622.jpg
END:VEVENT
END:VCALENDAR