BEGIN:VCALENDAR
VERSION:2.0
PRODID:-//The Ark - ECPv6.15.20//NONSGML v1.0//EN
CALSCALE:GREGORIAN
METHOD:PUBLISH
X-WR-CALNAME:The Ark
X-ORIGINAL-URL:https://theark.org
X-WR-CALDESC:Events for The Ark
REFRESH-INTERVAL;VALUE=DURATION:PT1H
X-Robots-Tag:noindex
X-PUBLISHED-TTL:PT1H
BEGIN:VTIMEZONE
TZID:America/Detroit
BEGIN:DAYLIGHT
TZOFFSETFROM:-0500
TZOFFSETTO:-0400
TZNAME:EDT
DTSTART:20250309T070000
END:DAYLIGHT
BEGIN:STANDARD
TZOFFSETFROM:-0400
TZOFFSETTO:-0500
TZNAME:EST
DTSTART:20251102T060000
END:STANDARD
BEGIN:DAYLIGHT
TZOFFSETFROM:-0500
TZOFFSETTO:-0400
TZNAME:EDT
DTSTART:20260308T070000
END:DAYLIGHT
BEGIN:STANDARD
TZOFFSETFROM:-0400
TZOFFSETTO:-0500
TZNAME:EST
DTSTART:20261101T060000
END:STANDARD
BEGIN:DAYLIGHT
TZOFFSETFROM:-0500
TZOFFSETTO:-0400
TZNAME:EDT
DTSTART:20270314T070000
END:DAYLIGHT
BEGIN:STANDARD
TZOFFSETFROM:-0400
TZOFFSETTO:-0500
TZNAME:EST
DTSTART:20271107T060000
END:STANDARD
END:VTIMEZONE
BEGIN:VEVENT
DTSTART;TZID=America/Detroit:20260806T200000
DTEND;TZID=America/Detroit:20260806T230000
DTSTAMP:20260420T155821
CREATED:20260126T170048Z
LAST-MODIFIED:20260420T133306Z
UID:10001155-1786046400-1786057200@theark.org
SUMMARY:Girl Named Tom
DESCRIPTION:Ticket prices on our website reflect all-in pricing for purchases made online or by phone.  This means the price you see includes the ticket price plus MUTO’s ticket processing fee. Tickets may be purchased with no included fees in person at The Ark during box office hours. \nFrom a small-town minivan to sold-out theaters\, Girl Named Tom’s rise has been nothing short of remarkable. Siblings Bekah\, Caleb\, and Joshua Liechty grew up making music together but officially formed their band in 2019\, hitting the road with a self-funded tour and their debut EP\, Another World. Their tight harmonies and heartfelt songwriting captivated audiences\, leading them to make history as the first group to win The Voice.  \nSince then\, the trio has sold over 100\,000 tickets across 40 states\, headlined nationwide tours\, and performed at the Grand Ole Opry\, the Indianapolis 500\, and on The Ellen Show. They’ve shared the stage with the Nashville Symphony Orchestra\, Kelsea Ballerini\, Lady A\, and Pentatonix\, but their signature sound remains unmistakably their own—fusing folk\, pop\, and sibling magic to create music that moves the soul.  \nIn April 2026\, Girl Named Tom will hit the road on a nationwide tour promoting their new album\, Dust to Dust. The momentum will keep rolling with a performance on NBC’s The Voice in early April\, alongside an appearance on The Kelly Clarkson Show shortly thereafter.
URL:https://theark.org/event/girl-named-tom-260806/
LOCATION:The Ark\, 316 S. Main\, Ann Arbor\, MI\, 48104\, United States
CATEGORIES:Sold Out
ATTACH;FMTTYPE=image/jpeg:https://theark.org/wp-content/uploads/2026/01/GNT-Venue-Website-Promo-web-scaled.jpg
END:VEVENT
END:VCALENDAR