BEGIN:VCALENDAR
VERSION:2.0
PRODID:-//The Ark - ECPv6.15.20//NONSGML v1.0//EN
CALSCALE:GREGORIAN
METHOD:PUBLISH
X-WR-CALNAME:The Ark
X-ORIGINAL-URL:https://theark.org
X-WR-CALDESC:Events for The Ark
REFRESH-INTERVAL;VALUE=DURATION:PT1H
X-Robots-Tag:noindex
X-PUBLISHED-TTL:PT1H
BEGIN:VTIMEZONE
TZID:America/Detroit
BEGIN:DAYLIGHT
TZOFFSETFROM:-0500
TZOFFSETTO:-0400
TZNAME:EDT
DTSTART:20250309T070000
END:DAYLIGHT
BEGIN:STANDARD
TZOFFSETFROM:-0400
TZOFFSETTO:-0500
TZNAME:EST
DTSTART:20251102T060000
END:STANDARD
BEGIN:DAYLIGHT
TZOFFSETFROM:-0500
TZOFFSETTO:-0400
TZNAME:EDT
DTSTART:20260308T070000
END:DAYLIGHT
BEGIN:STANDARD
TZOFFSETFROM:-0400
TZOFFSETTO:-0500
TZNAME:EST
DTSTART:20261101T060000
END:STANDARD
BEGIN:DAYLIGHT
TZOFFSETFROM:-0500
TZOFFSETTO:-0400
TZNAME:EDT
DTSTART:20270314T070000
END:DAYLIGHT
BEGIN:STANDARD
TZOFFSETFROM:-0400
TZOFFSETTO:-0500
TZNAME:EST
DTSTART:20271107T060000
END:STANDARD
END:VTIMEZONE
BEGIN:VEVENT
DTSTART;TZID=America/Detroit:20260421T200000
DTEND;TZID=America/Detroit:20260421T230000
DTSTAMP:20260422T040516
CREATED:20260205T150013Z
LAST-MODIFIED:20260204T194841Z
UID:10001166-1776801600-1776812400@theark.org
SUMMARY:Crystal Bowersox
DESCRIPTION:Ticket prices on our website reflect all-in pricing for purchases made online or by phone.  This means the price you see includes the ticket price plus MUTO’s ticket processing fee. Tickets may be purchased with no included fees in person at The Ark during box office hours. \nCrystal Bowersox\, a northwest Ohio native\, has built her world around music. By the age of 10\, she was performing in local clubs and venues. On the cusp of 18 and with a curious heart\, Crystal moved to Chicago\, IL\, where she spent her days busking on subway platforms between working odd jobs and attending school.  \nChicago’s rich musical history helped Bowersox to broaden her musical horizons. Ultimately\, Bowersox auditioned for the ninth season of American Idol\, and her time on the show proved to be well spent. In 2010\, her debut album\, “Farmer’s Daughter” was released on Jive Records and since\, she has since released 3 LP’s\, two EPs\, several singles\, and is currently developing a theatrical rock concert titled\, “Trauma Queen”. Crystal has recorded and performed alongside several notable names and additionally\, has used her voice and talents to benefit several organizations close to her heart.
URL:https://theark.org/event/crystal-bowersox-260421/
LOCATION:The Ark\, 316 S. Main\, Ann Arbor\, MI\, 48104\, United States
ATTACH;FMTTYPE=image/jpeg:https://theark.org/wp-content/uploads/2026/02/CrystalBowersox-PFS_0129-Edit-Edit-scaled.jpg
END:VEVENT
END:VCALENDAR