BEGIN:VCALENDAR
VERSION:2.0
PRODID:-//The Ark - ECPv6.15.20//NONSGML v1.0//EN
CALSCALE:GREGORIAN
METHOD:PUBLISH
X-ORIGINAL-URL:https://theark.org
X-WR-CALDESC:Events for The Ark
REFRESH-INTERVAL;VALUE=DURATION:PT1H
X-Robots-Tag:noindex
X-PUBLISHED-TTL:PT1H
BEGIN:VTIMEZONE
TZID:America/Detroit
BEGIN:DAYLIGHT
TZOFFSETFROM:-0500
TZOFFSETTO:-0400
TZNAME:EDT
DTSTART:20250309T070000
END:DAYLIGHT
BEGIN:STANDARD
TZOFFSETFROM:-0400
TZOFFSETTO:-0500
TZNAME:EST
DTSTART:20251102T060000
END:STANDARD
BEGIN:DAYLIGHT
TZOFFSETFROM:-0500
TZOFFSETTO:-0400
TZNAME:EDT
DTSTART:20260308T070000
END:DAYLIGHT
BEGIN:STANDARD
TZOFFSETFROM:-0400
TZOFFSETTO:-0500
TZNAME:EST
DTSTART:20261101T060000
END:STANDARD
BEGIN:DAYLIGHT
TZOFFSETFROM:-0500
TZOFFSETTO:-0400
TZNAME:EDT
DTSTART:20270314T070000
END:DAYLIGHT
BEGIN:STANDARD
TZOFFSETFROM:-0400
TZOFFSETTO:-0500
TZNAME:EST
DTSTART:20271107T060000
END:STANDARD
END:VTIMEZONE
BEGIN:VEVENT
DTSTART;TZID=America/Detroit:20260328T200000
DTEND;TZID=America/Detroit:20260328T230000
DTSTAMP:20260421T161017
CREATED:20251211T150005Z
LAST-MODIFIED:20251229T162606Z
UID:10001112-1774728000-1774738800@theark.org
SUMMARY:Joy Clark & Kate Peterson
DESCRIPTION:Ticket prices on our website reflect all-in pricing for purchases made online or by phone.  This means the price you see includes the ticket price plus MUTO’s ticket processing fee. Tickets may be purchased with no included fees in person at The Ark during box office hours. \nJoy Clark’s songcraft\, paired with sophisticated progressions\, and themes of freedom\, love and self-acceptance gained her notice on the national folk and Americana scenes just a few years ago with appearances at Americanafest. She caught the attention of Grammy-winner Allison Russell and was offered a regular spot in her backing band The Rainbow Coalition\, earning her the chance to jam with superstars Brandi Carlile and the Indigo Girls. Talking to The Tennessean\, Russell described Joy as a “a brilliant artist\, writer and singer.” \nAnn Arbor’s homegrown friend and folksinger describes herself as “raspy\, emo acoustic soul-folk with a touch of optimism and a lot of humanness.” \nBeginning in 2005\, Michigan-based singer songmaker and multi-instrumentalist Kate Peterson has traveled the US and Europe winning the hearts of vulnerability lovers everywhere. For 10 years\, she spilled her heart onto hundreds of stages\, opened for her heroes and sparked thousands of laughs (and almost as many tears) with her folk duo\, Nervous but Excited. These days\, in between adventure travel\, Kate is a home-makin’ hobbyist who swaps her wood-working tools for a microphone for only the most special of occasions. \nThe roots of her music are still planted firmly in the Pleasantly Aggressive Folk sound that long time fans will find familiar\, but they will quickly notice a depth in her sound that only time and patience can cultivate.
URL:https://theark.org/event/joy-clark-kate-peterson/
LOCATION:The Ark\, 316 S. Main\, Ann Arbor\, MI\, 48104\, United States
ATTACH;FMTTYPE=image/jpeg:https://theark.org/wp-content/uploads/2025/12/Joy-and-Kate.jpg
END:VEVENT
END:VCALENDAR