BEGIN:VCALENDAR
VERSION:2.0
PRODID:-//The Ark - ECPv6.15.20//NONSGML v1.0//EN
CALSCALE:GREGORIAN
METHOD:PUBLISH
X-WR-CALNAME:The Ark
X-ORIGINAL-URL:https://theark.org
X-WR-CALDESC:Events for The Ark
REFRESH-INTERVAL;VALUE=DURATION:PT1H
X-Robots-Tag:noindex
X-PUBLISHED-TTL:PT1H
BEGIN:VTIMEZONE
TZID:America/Detroit
BEGIN:DAYLIGHT
TZOFFSETFROM:-0500
TZOFFSETTO:-0400
TZNAME:EDT
DTSTART:20250309T070000
END:DAYLIGHT
BEGIN:STANDARD
TZOFFSETFROM:-0400
TZOFFSETTO:-0500
TZNAME:EST
DTSTART:20251102T060000
END:STANDARD
BEGIN:DAYLIGHT
TZOFFSETFROM:-0500
TZOFFSETTO:-0400
TZNAME:EDT
DTSTART:20260308T070000
END:DAYLIGHT
BEGIN:STANDARD
TZOFFSETFROM:-0400
TZOFFSETTO:-0500
TZNAME:EST
DTSTART:20261101T060000
END:STANDARD
BEGIN:DAYLIGHT
TZOFFSETFROM:-0500
TZOFFSETTO:-0400
TZNAME:EDT
DTSTART:20270314T070000
END:DAYLIGHT
BEGIN:STANDARD
TZOFFSETFROM:-0400
TZOFFSETTO:-0500
TZNAME:EST
DTSTART:20271107T060000
END:STANDARD
END:VTIMEZONE
BEGIN:VEVENT
DTSTART;TZID=America/Detroit:20260327T200000
DTEND;TZID=America/Detroit:20260327T230000
DTSTAMP:20260421T180405
CREATED:20260129T150034Z
LAST-MODIFIED:20260323T192622Z
UID:10001158-1774641600-1774652400@theark.org
SUMMARY:Rabbitology
DESCRIPTION:Ticket prices on our website reflect all-in pricing for purchases made online or by phone.  This means the price you see includes the ticket price plus MUTO’s ticket processing fee. Tickets may be purchased with no included fees in person at The Ark during box office hours. \nEveryone has their own world. Fragments of moments lived\, translated and understood through metaphor and storytelling. Rabbitology is the project of (University of Michigan student) Nat Timmerman—a world that was pulled from her odd-running mind. A little land of the harebrained and burrowing. Venture into these eclectic soundscapes\, and here you will discover a collection of memoirs turned into fantastical sonic short stories. \nStrange but charming\, you’ll find these songs bundled in capes of star-dusted moss\, grounded in the natural world\, propelled by the raw and the real. If a song takes place in the woods\, then the woods the song will become; the percussion is the stomping of the leaves\, the synth is a warped fox’s cry. Thus arise the stories of dread-grey skies\, writhing vines\, and shivering pines—stories of a magically real folk horror. The dark and ugly become beautiful here\, and vice versa. In this world\, there is no such thing as “black or white\,” instead\, everything exists together at once. \nThis world is for the souls who never quite fit in\, who found themselves like ghosts\, drifting between realms\, never finding anywhere to settle. Simply follow the three-legged rabbit prints until you’re knee deep in this world’s tall grass. Here\, you’re invited to rest\, to dance\, to create\, to ideate\, even if your visit is only for a little while. Stay as long as you like. Make this world your home too. It’s a little unusual in here\, but that’s life! \nPresented with support from Bank of Ann Arbor
URL:https://theark.org/event/rabbitology-260327/
LOCATION:The Ark\, 316 S. Main\, Ann Arbor\, MI\, 48104\, United States
ATTACH;FMTTYPE=image/jpeg:https://theark.org/wp-content/uploads/2025/06/Rabbitology-Butcheress-38-SQ-scaled-e1750275755391.jpg
END:VEVENT
END:VCALENDAR