BEGIN:VCALENDAR
VERSION:2.0
PRODID:-//The Ark - ECPv6.15.20//NONSGML v1.0//EN
CALSCALE:GREGORIAN
METHOD:PUBLISH
X-ORIGINAL-URL:https://theark.org
X-WR-CALDESC:Events for The Ark
REFRESH-INTERVAL;VALUE=DURATION:PT1H
X-Robots-Tag:noindex
X-PUBLISHED-TTL:PT1H
BEGIN:VTIMEZONE
TZID:America/Detroit
BEGIN:DAYLIGHT
TZOFFSETFROM:-0500
TZOFFSETTO:-0400
TZNAME:EDT
DTSTART:20250309T070000
END:DAYLIGHT
BEGIN:STANDARD
TZOFFSETFROM:-0400
TZOFFSETTO:-0500
TZNAME:EST
DTSTART:20251102T060000
END:STANDARD
BEGIN:DAYLIGHT
TZOFFSETFROM:-0500
TZOFFSETTO:-0400
TZNAME:EDT
DTSTART:20260308T070000
END:DAYLIGHT
BEGIN:STANDARD
TZOFFSETFROM:-0400
TZOFFSETTO:-0500
TZNAME:EST
DTSTART:20261101T060000
END:STANDARD
BEGIN:DAYLIGHT
TZOFFSETFROM:-0500
TZOFFSETTO:-0400
TZNAME:EDT
DTSTART:20270314T070000
END:DAYLIGHT
BEGIN:STANDARD
TZOFFSETFROM:-0400
TZOFFSETTO:-0500
TZNAME:EST
DTSTART:20271107T060000
END:STANDARD
END:VTIMEZONE
BEGIN:VEVENT
DTSTART;TZID=America/Detroit:20260312T200000
DTEND;TZID=America/Detroit:20260312T230000
DTSTAMP:20260420T063346
CREATED:20251211T150047Z
LAST-MODIFIED:20260304T141646Z
UID:10001115-1773345600-1773356400@theark.org
SUMMARY:Appalachian Road Show
DESCRIPTION:Ticket prices on our website reflect all-in pricing for purchases made online or by phone.  This means the price you see includes the ticket price plus MUTO’s ticket processing fee. Tickets may be purchased with no included fees in person at The Ark during box office hours. \nAppalachian Road Show is a visionary acoustic ensemble\, bringing new-generation interpretations of traditional Americana\, bluegrass and folk songs\, as well as offering innovative original music\, all presented with a common thread tied directly to the heart of the Appalachian regions of the United States. Grammy-nominated banjoist Barry Abernathy joins forces with Grammy-winning fiddler Jim VanCleve\, fresh off of his recent stint touring with multi-platinum country artist Josh Turner\, as well as esteemed vocalist and mandolinist Darrell Webb\, who has recorded and toured with Dolly Parton and Rhonda Vincent\, among many others. The group also includes 26-year-old “old soul” guitarist Zeb Snyder\, whose fierce and versatile playing recalls Doc Watson and Norman Blake as readily as it does Duane Allman and Stevie Ray Vaughn.
URL:https://theark.org/event/appalachian-road-show-260312/
LOCATION:The Ark\, 316 S. Main\, Ann Arbor\, MI\, 48104\, United States
ATTACH;FMTTYPE=image/jpeg:https://theark.org/wp-content/uploads/2022/11/Appalachian-Roadshow-web.jpg
END:VEVENT
END:VCALENDAR