BEGIN:VCALENDAR
VERSION:2.0
PRODID:-//The Ark - ECPv6.15.20//NONSGML v1.0//EN
CALSCALE:GREGORIAN
METHOD:PUBLISH
X-ORIGINAL-URL:https://theark.org
X-WR-CALDESC:Events for The Ark
REFRESH-INTERVAL;VALUE=DURATION:PT1H
X-Robots-Tag:noindex
X-PUBLISHED-TTL:PT1H
BEGIN:VTIMEZONE
TZID:America/Detroit
BEGIN:DAYLIGHT
TZOFFSETFROM:-0500
TZOFFSETTO:-0400
TZNAME:EDT
DTSTART:20250309T070000
END:DAYLIGHT
BEGIN:STANDARD
TZOFFSETFROM:-0400
TZOFFSETTO:-0500
TZNAME:EST
DTSTART:20251102T060000
END:STANDARD
BEGIN:DAYLIGHT
TZOFFSETFROM:-0500
TZOFFSETTO:-0400
TZNAME:EDT
DTSTART:20260308T070000
END:DAYLIGHT
BEGIN:STANDARD
TZOFFSETFROM:-0400
TZOFFSETTO:-0500
TZNAME:EST
DTSTART:20261101T060000
END:STANDARD
BEGIN:DAYLIGHT
TZOFFSETFROM:-0500
TZOFFSETTO:-0400
TZNAME:EDT
DTSTART:20270314T070000
END:DAYLIGHT
BEGIN:STANDARD
TZOFFSETFROM:-0400
TZOFFSETTO:-0500
TZNAME:EST
DTSTART:20271107T060000
END:STANDARD
END:VTIMEZONE
BEGIN:VEVENT
DTSTART;TZID=America/Detroit:20260304T200000
DTEND;TZID=America/Detroit:20260304T230000
DTSTAMP:20260420T210138
CREATED:20251211T150051Z
LAST-MODIFIED:20251210T191432Z
UID:10001113-1772654400-1772665200@theark.org
SUMMARY:Trace Bundy
DESCRIPTION:Ticket prices on our website reflect all-in pricing for purchases made online or by phone.  This means the price you see includes the ticket price plus MUTO’s ticket processing fee. Tickets may be purchased with no included fees in person at The Ark during box office hours. \nInternationally-acclaimed guitar virtuoso Trace Bundy must be seen\, not just heard. His music is poetry in motion\, using harmonics\, looping\, multiple capos\, and his unique banter and stage presence to deliver an unforgettable live concert experience. Listening to his intricate arrangements is one thing\, but seeing the fan-dubbed “Acoustic Ninja” play live confounds even the most accomplished music lovers as to how one person can do all that with just two hands and ten fingers. \nBundy’s unique career has brought him across the world\, with concerts in 28 countries and counting – from high-tech performance halls in South Korea and Italy\, to remote villages in Zimbabwe and Guatemala. He has independently sold over 150\,000 albums on his record label\, Honest Ninja Music. His video clips circulate virally at astonishing speed\, with over 45 million YouTube views to date.
URL:https://theark.org/event/trace-bundy-260304/
LOCATION:The Ark\, 316 S. Main\, Ann Arbor\, MI\, 48104\, United States
ATTACH;FMTTYPE=image/jpeg:https://theark.org/wp-content/uploads/2024/05/Trace-Bundy.jpg
END:VEVENT
END:VCALENDAR