BEGIN:VCALENDAR
VERSION:2.0
PRODID:-//The Ark - ECPv6.15.20//NONSGML v1.0//EN
CALSCALE:GREGORIAN
METHOD:PUBLISH
X-ORIGINAL-URL:https://theark.org
X-WR-CALDESC:Events for The Ark
REFRESH-INTERVAL;VALUE=DURATION:PT1H
X-Robots-Tag:noindex
X-PUBLISHED-TTL:PT1H
BEGIN:VTIMEZONE
TZID:America/Detroit
BEGIN:DAYLIGHT
TZOFFSETFROM:-0500
TZOFFSETTO:-0400
TZNAME:EDT
DTSTART:20250309T070000
END:DAYLIGHT
BEGIN:STANDARD
TZOFFSETFROM:-0400
TZOFFSETTO:-0500
TZNAME:EST
DTSTART:20251102T060000
END:STANDARD
BEGIN:DAYLIGHT
TZOFFSETFROM:-0500
TZOFFSETTO:-0400
TZNAME:EDT
DTSTART:20260308T070000
END:DAYLIGHT
BEGIN:STANDARD
TZOFFSETFROM:-0400
TZOFFSETTO:-0500
TZNAME:EST
DTSTART:20261101T060000
END:STANDARD
BEGIN:DAYLIGHT
TZOFFSETFROM:-0500
TZOFFSETTO:-0400
TZNAME:EDT
DTSTART:20270314T070000
END:DAYLIGHT
BEGIN:STANDARD
TZOFFSETFROM:-0400
TZOFFSETTO:-0500
TZNAME:EST
DTSTART:20271107T060000
END:STANDARD
END:VTIMEZONE
BEGIN:VEVENT
DTSTART;TZID=America/Detroit:20260303T200000
DTEND;TZID=America/Detroit:20260303T230000
DTSTAMP:20260420T141321
CREATED:20251204T150005Z
LAST-MODIFIED:20260116T203700Z
UID:10001103-1772568000-1772578800@theark.org
SUMMARY:Masters of Hawaiian Music
DESCRIPTION:Ticket prices on our website reflect all-in pricing for purchases made online or by phone.  This means the price you see includes the ticket price plus MUTO’s ticket processing fee. Tickets may be purchased with no included fees in person at The Ark during box office hours. \nMasters of Hawaiian Music features three of the most popular musicians from Maui’s renowned “Slack Key Show”\, all from celebrated Hawaiian cultural lineages. 4-time Grammy winner\, slack key guitar master George Kahumoku Jr\, National Heritage Fellow Led Kaapana\, whose picking style in slack key guitar is unrivaled\, and award-winner Sonny Lim\, on lap steel (invented in Hawai‘i)\, slack key guitar and vocals. Together they share Hawai‘i’s unique guitar styles and songs that trace their roots to the paniolos (Hawaiian cowboys)\, along with captivating stories of Hawai‘i and their lives in music.
URL:https://theark.org/event/masters-of-hawaiian-music-260303/
LOCATION:The Ark\, 316 S. Main\, Ann Arbor\, MI\, 48104\, United States
ATTACH;FMTTYPE=image/jpeg:https://theark.org/wp-content/uploads/2025/12/GKahumoku-guitar2_PhotoJohnHenry-scaled.jpg
END:VEVENT
END:VCALENDAR