BEGIN:VCALENDAR
VERSION:2.0
PRODID:-//The Ark - ECPv6.15.20//NONSGML v1.0//EN
CALSCALE:GREGORIAN
METHOD:PUBLISH
X-WR-CALNAME:The Ark
X-ORIGINAL-URL:https://theark.org
X-WR-CALDESC:Events for The Ark
REFRESH-INTERVAL;VALUE=DURATION:PT1H
X-Robots-Tag:noindex
X-PUBLISHED-TTL:PT1H
BEGIN:VTIMEZONE
TZID:America/Detroit
BEGIN:DAYLIGHT
TZOFFSETFROM:-0500
TZOFFSETTO:-0400
TZNAME:EDT
DTSTART:20250309T070000
END:DAYLIGHT
BEGIN:STANDARD
TZOFFSETFROM:-0400
TZOFFSETTO:-0500
TZNAME:EST
DTSTART:20251102T060000
END:STANDARD
BEGIN:DAYLIGHT
TZOFFSETFROM:-0500
TZOFFSETTO:-0400
TZNAME:EDT
DTSTART:20260308T070000
END:DAYLIGHT
BEGIN:STANDARD
TZOFFSETFROM:-0400
TZOFFSETTO:-0500
TZNAME:EST
DTSTART:20261101T060000
END:STANDARD
BEGIN:DAYLIGHT
TZOFFSETFROM:-0500
TZOFFSETTO:-0400
TZNAME:EDT
DTSTART:20270314T070000
END:DAYLIGHT
BEGIN:STANDARD
TZOFFSETFROM:-0400
TZOFFSETTO:-0500
TZNAME:EST
DTSTART:20271107T060000
END:STANDARD
END:VTIMEZONE
BEGIN:VEVENT
DTSTART;TZID=America/Detroit:20260219T200000
DTEND;TZID=America/Detroit:20260219T230000
DTSTAMP:20260421T022051
CREATED:20250922T160034Z
LAST-MODIFIED:20250924T190034Z
UID:10001042-1771531200-1771542000@theark.org
SUMMARY:Sister Sadie
DESCRIPTION:Ticket prices on our website reflect all-in pricing for purchases made online or by phone.  This means the price you see includes the ticket price plus MUTO’s ticket processing fee. Tickets may be purchased with no included fees in person at The Ark during box office hours. \nThere was no master plan. No label strategy. Just a spontaneous jam at Nashville’s Station Inn between a few friends—seasoned players\, all women\, making a little noise. But something clicked. The room lit up\, the crowd roared\, and Sister Sadie was born. \nWhat started as an accidental band became a force. GRAMMY-nominated. IBMA-decorated. Opry-validated. But for all the accolades\, they were often reduced to one line: an all-female bluegrass band. True—but never the point. Sister Sadie has always been about the music. The fire. The truth. \nTheir new album\, All Will Be Well\, is that truth—loud\, fearless\, and free. You’ll hear echoes of bluegrass\, but what rises is something bigger: country with claws\, Americana with muscle\, gospel grit and raw storytelling. \nFrom the haunting “Prodigal Daughter” to the swagger of “Do What You Want” and the aching beauty of “If I Don’t Have You\,” these six women are not performing roles—they’re telling you who they are. \nThis is Sister Sadie\, evolved: bold\, bonded\, and braver than ever. They’re not asking for space. They’re taking it. \nAnd they’re just getting started.
URL:https://theark.org/event/sister-sadie-250219/
LOCATION:The Ark\, 316 S. Main\, Ann Arbor\, MI\, 48104\, United States
ATTACH;FMTTYPE=image/jpeg:https://theark.org/wp-content/uploads/2025/09/lauraschneiderphoto_SisterSadie_-161-scaled.jpg
END:VEVENT
END:VCALENDAR