BEGIN:VCALENDAR
VERSION:2.0
PRODID:-//The Ark - ECPv6.15.20//NONSGML v1.0//EN
CALSCALE:GREGORIAN
METHOD:PUBLISH
X-WR-CALNAME:The Ark
X-ORIGINAL-URL:https://theark.org
X-WR-CALDESC:Events for The Ark
REFRESH-INTERVAL;VALUE=DURATION:PT1H
X-Robots-Tag:noindex
X-PUBLISHED-TTL:PT1H
BEGIN:VTIMEZONE
TZID:America/Detroit
BEGIN:DAYLIGHT
TZOFFSETFROM:-0500
TZOFFSETTO:-0400
TZNAME:EDT
DTSTART:20250309T070000
END:DAYLIGHT
BEGIN:STANDARD
TZOFFSETFROM:-0400
TZOFFSETTO:-0500
TZNAME:EST
DTSTART:20251102T060000
END:STANDARD
BEGIN:DAYLIGHT
TZOFFSETFROM:-0500
TZOFFSETTO:-0400
TZNAME:EDT
DTSTART:20260308T070000
END:DAYLIGHT
BEGIN:STANDARD
TZOFFSETFROM:-0400
TZOFFSETTO:-0500
TZNAME:EST
DTSTART:20261101T060000
END:STANDARD
BEGIN:DAYLIGHT
TZOFFSETFROM:-0500
TZOFFSETTO:-0400
TZNAME:EDT
DTSTART:20270314T070000
END:DAYLIGHT
BEGIN:STANDARD
TZOFFSETFROM:-0400
TZOFFSETTO:-0500
TZNAME:EST
DTSTART:20271107T060000
END:STANDARD
END:VTIMEZONE
BEGIN:VEVENT
DTSTART;TZID=America/Detroit:20260130T193000
DTEND;TZID=America/Detroit:20260130T230000
DTSTAMP:20260420T222629
CREATED:20251118T203039Z
LAST-MODIFIED:20260126T211939Z
UID:10001092-1769801400-1769814000@theark.org
SUMMARY:49th Ann Arbor Folk Fest opening night concert
DESCRIPTION:Premium tickets ($136.50 and up) include a tax deductible donation to The Ark – more info here! \n  \nOpening Night Concert \nGreensky Bluegrass\nwith special guest\nJunior Brown \n  \nThe Ark and Bank of Ann Arbor are excited to announce the lineup for the Ann Arbor Folk Fest at Hill Auditorium. The festival is The Ark’s largest annual fundraiser and delivers the full spectrum of “Ark music\,” presenting a taste of what’s happening on the leading edge of acoustic music while delving into the very heart of folk and roots traditions. Friday night features a new format with a later start\, and a concert length performance from Michigan’s own Greensky Bluegrass with special guest\, the legendary Junior Brown. \nKnown for their dazzling live performances and relentless touring schedule\, Kalamazoo’s Greensky Bluegrass — Anders Beck [dobro]\, Michael Arlen Bont [banjo]\, Dave Bruzza [guitar]\, Mike Devol [upright bass]\, and Paul Hoffman [Mandolin] — are connected through a deep bond\, just as they are seasoned road warriors\, they’re a band of brothers who have seen each other through decades of ups and downs\, personal and collective highlights\, and the moments when life turns it all upside down. These are real people having real experiences. As with traditional bluegrass\, they write about their own contemporary day-to-day happenings\, emotions\, and experiences in the modern world. \nThe band has earned critical acclaim from Billboard\, Parade\, NPR\, and Rolling Stone who hailed them as “representing the genre for a whole new generation.” The band embraces tradition while ushering bluegrass forward on their eighth full-length offering\, Stress Dreams. “Greensky is and always has been very unique in our world\,” observes Paul. “We put our love\, energy\, and focus into what we appreciate about our music. We come together as a band in a way that’s organic. We take a lot of pride in how we grow and challenge each other too. We’re maturing together. I think we get more Greensky all of the time.” \nWith his unique voice\, more unique song writing\, and even more unique double necked “Guit-Steel” guitar\, there has absolutely never been anyone like Junior Brown. He’s an American Original. He’s a one-man musical hot fusion machine! People call him a cross between Jimi Hendrix and Ernest Tubb. But there’s a lot more to say about Junior Brown. There’s the fact that he’s just about the best surf guitarist around\, for example. Or that he’s a wonderful composer of traditional country songs\, the kind in which each outrageous pun leads you deeper into an emotional blind alley. An Ark favorite for over 2 decades\, before taking a breather from touring the last few years\, Junior Brown and his powerhouse band know how to bring the party – and we couldn’t be more delighted to have them join us for the Friday night show! \nOpening the evening is Junior Brown. With his unique voice\, more unique song writing\, and even more unique double necked “Guit-Steel” guitar\, there has absolutely never been anyone like Junior Brown. He’s a one-man musical hot fusion machine! People call him a cross between Jimi Hendrix and Ernest Tubb. But there’s a lot more to say about Junior Brown. There’s the fact that he’s just about the best surf guitarist around\, for example. Or that he’s a wonderful composer of traditional country songs\, the kind in which each outrageous pun leads you deeper into an emotional blind alley. Seeing Junior live is a definite must\, so GUIT WITH IT ’cause he’s AN AMERICAN ORIGINAL and an absolute legend! Come check out the performer voted #1 House Rocker by the readers of Guitar Player – we are delighted to welcome Junior Brown and his legendary band to open this year’s Ann Arbor Folk Festival.
URL:https://theark.org/event/49th-ann-arbor-folk-fest-260130/
LOCATION:Hill Auditorium\, 825 N University Ave\, Ann Arbor\, MI\, 48108\, United States
CATEGORIES:Folk Festival
ATTACH;FMTTYPE=image/png:https://theark.org/wp-content/uploads/2025/11/FF26_Friday_1920x1080_v5.png
END:VEVENT
END:VCALENDAR