BEGIN:VCALENDAR
VERSION:2.0
PRODID:-//The Ark - ECPv6.15.20//NONSGML v1.0//EN
CALSCALE:GREGORIAN
METHOD:PUBLISH
X-ORIGINAL-URL:https://theark.org
X-WR-CALDESC:Events for The Ark
REFRESH-INTERVAL;VALUE=DURATION:PT1H
X-Robots-Tag:noindex
X-PUBLISHED-TTL:PT1H
BEGIN:VTIMEZONE
TZID:America/Detroit
BEGIN:DAYLIGHT
TZOFFSETFROM:-0500
TZOFFSETTO:-0400
TZNAME:EDT
DTSTART:20250309T070000
END:DAYLIGHT
BEGIN:STANDARD
TZOFFSETFROM:-0400
TZOFFSETTO:-0500
TZNAME:EST
DTSTART:20251102T060000
END:STANDARD
BEGIN:DAYLIGHT
TZOFFSETFROM:-0500
TZOFFSETTO:-0400
TZNAME:EDT
DTSTART:20260308T070000
END:DAYLIGHT
BEGIN:STANDARD
TZOFFSETFROM:-0400
TZOFFSETTO:-0500
TZNAME:EST
DTSTART:20261101T060000
END:STANDARD
BEGIN:DAYLIGHT
TZOFFSETFROM:-0500
TZOFFSETTO:-0400
TZNAME:EDT
DTSTART:20270314T070000
END:DAYLIGHT
BEGIN:STANDARD
TZOFFSETFROM:-0400
TZOFFSETTO:-0500
TZNAME:EST
DTSTART:20271107T060000
END:STANDARD
END:VTIMEZONE
BEGIN:VEVENT
DTSTART;TZID=America/Detroit:20260117T200000
DTEND;TZID=America/Detroit:20260117T230000
DTSTAMP:20260426T000044
CREATED:20250828T140033Z
LAST-MODIFIED:20250827T174052Z
UID:10001013-1768680000-1768690800@theark.org
SUMMARY:Heywood Banks
DESCRIPTION:Ticket prices on our website reflect all-in pricing for purchases made online or by phone.  This means the price you see includes the ticket price plus MUTO’s ticket processing fee. Tickets may be purchased with no included fees in person at The Ark during box office hours. \nHeywood Banks is simply one of a kind\, almost impossible to describe\, with a style his very own. Equal parts genius and buffoon\, this songwriter-comic-singer-poet-musician has become a cult hero and a pop icon\, with a show that appeals to college students\, stoners\, businessmen\, yuppies\, rednecks\, punks\, kids or your grandmother. Heywood intersperses his humorous observations of life with twisted\, inventive\, bizarre songs\, sung and played in a variety of styles\, from folk\, to country to rock to pop\, and way beyond. You have to be pretty sharp to get Heywood at his deepest level (he demands a high level of pop culture literacy)\, but you can also enjoy him just for his vocal style impersonations\, expert musicianship and just plain silliness. Heywood has appeared on A&E’s Evening at the Improv\, MTV’s 1/2 Hour Comedy Hour\, CNN’s Hollywood Minute\, Caroline’s Comedy Hour\, Entertainment Tonight\, Showtime Comedy Club Network\, and the Dr. Demento Show\,” and is a frequent guest on the national Bob and Tom radio show.
URL:https://theark.org/event/heywood-banks-250117/
LOCATION:The Ark\, 316 S. Main\, Ann Arbor\, MI\, 48104\, United States
ATTACH;FMTTYPE=image/png:https://theark.org/wp-content/uploads/2025/08/Heywood-250118-stories-scaled-e1756316259619.png
END:VEVENT
END:VCALENDAR