BEGIN:VCALENDAR
VERSION:2.0
PRODID:-//The Ark - ECPv6.15.20//NONSGML v1.0//EN
CALSCALE:GREGORIAN
METHOD:PUBLISH
X-ORIGINAL-URL:https://theark.org
X-WR-CALDESC:Events for The Ark
REFRESH-INTERVAL;VALUE=DURATION:PT1H
X-Robots-Tag:noindex
X-PUBLISHED-TTL:PT1H
BEGIN:VTIMEZONE
TZID:America/Detroit
BEGIN:DAYLIGHT
TZOFFSETFROM:-0500
TZOFFSETTO:-0400
TZNAME:EDT
DTSTART:20250309T070000
END:DAYLIGHT
BEGIN:STANDARD
TZOFFSETFROM:-0400
TZOFFSETTO:-0500
TZNAME:EST
DTSTART:20251102T060000
END:STANDARD
BEGIN:DAYLIGHT
TZOFFSETFROM:-0500
TZOFFSETTO:-0400
TZNAME:EDT
DTSTART:20260308T070000
END:DAYLIGHT
BEGIN:STANDARD
TZOFFSETFROM:-0400
TZOFFSETTO:-0500
TZNAME:EST
DTSTART:20261101T060000
END:STANDARD
BEGIN:DAYLIGHT
TZOFFSETFROM:-0500
TZOFFSETTO:-0400
TZNAME:EDT
DTSTART:20270314T070000
END:DAYLIGHT
BEGIN:STANDARD
TZOFFSETFROM:-0400
TZOFFSETTO:-0500
TZNAME:EST
DTSTART:20271107T060000
END:STANDARD
END:VTIMEZONE
BEGIN:VEVENT
DTSTART;TZID=America/Detroit:20260102T200000
DTEND;TZID=America/Detroit:20260102T230000
DTSTAMP:20260422T064246
CREATED:20250911T140037Z
LAST-MODIFIED:20260102T144955Z
UID:10001033-1767384000-1767394800@theark.org
SUMMARY:50 First Jokes
DESCRIPTION:Ticket prices on our website reflect all-in pricing for purchases made online or by phone.  This means the price you see includes the ticket price plus MUTO’s ticket processing fee. Tickets may be purchased with no included fees in person at The Ark during box office hours. \nThe tradition that started two decades ago at the Bell House in Brooklyn\, New York\, and now is a much-anticipated event also in Los Angeles and other cities\, is coming back to Ann Arbor! Fifty of the area’s up-and-coming and veteran comics come together to tell the first jokes they’ve written for the new year\, kicking off the 2026 comedy scene in the most righteous way possible! It’s fast\, it’s fresh\, and above all it’s funny. It’s also not going to break the bank\, so why not check out some Michigan comic voices you may not have known about?
URL:https://theark.org/event/50-first-jokes-260102/
LOCATION:The Ark\, 316 S. Main\, Ann Arbor\, MI\, 48104\, United States
CATEGORIES:Low Ticket Alert
ATTACH;FMTTYPE=image/png:https://theark.org/wp-content/uploads/2025/09/50FJ-poster-art-1-copy.png
END:VEVENT
END:VCALENDAR