BEGIN:VCALENDAR
VERSION:2.0
PRODID:-//The Ark - ECPv6.15.20//NONSGML v1.0//EN
CALSCALE:GREGORIAN
METHOD:PUBLISH
X-ORIGINAL-URL:https://theark.org
X-WR-CALDESC:Events for The Ark
REFRESH-INTERVAL;VALUE=DURATION:PT1H
X-Robots-Tag:noindex
X-PUBLISHED-TTL:PT1H
BEGIN:VTIMEZONE
TZID:America/Detroit
BEGIN:DAYLIGHT
TZOFFSETFROM:-0500
TZOFFSETTO:-0400
TZNAME:EDT
DTSTART:20240310T070000
END:DAYLIGHT
BEGIN:STANDARD
TZOFFSETFROM:-0400
TZOFFSETTO:-0500
TZNAME:EST
DTSTART:20241103T060000
END:STANDARD
BEGIN:DAYLIGHT
TZOFFSETFROM:-0500
TZOFFSETTO:-0400
TZNAME:EDT
DTSTART:20250309T070000
END:DAYLIGHT
BEGIN:STANDARD
TZOFFSETFROM:-0400
TZOFFSETTO:-0500
TZNAME:EST
DTSTART:20251102T060000
END:STANDARD
BEGIN:DAYLIGHT
TZOFFSETFROM:-0500
TZOFFSETTO:-0400
TZNAME:EDT
DTSTART:20260308T070000
END:DAYLIGHT
BEGIN:STANDARD
TZOFFSETFROM:-0400
TZOFFSETTO:-0500
TZNAME:EST
DTSTART:20261101T060000
END:STANDARD
END:VTIMEZONE
BEGIN:VEVENT
DTSTART;TZID=America/Detroit:20251218T200000
DTEND;TZID=America/Detroit:20251218T230000
DTSTAMP:20260422T183144
CREATED:20250807T140029Z
LAST-MODIFIED:20251002T161757Z
UID:10000993-1766088000-1766098800@theark.org
SUMMARY:Spending Christmas with Alicia Witt
DESCRIPTION:Ticket prices on our website reflect all-in pricing for purchases made online or by phone.  This means the price you see includes the ticket price plus MUTO’s ticket processing fee. Tickets may be purchased with no included fees in person at The Ark during box office hours. \nAlicia Witt\, star of this summer’s smash hit movie “Longlegs” opposite Nicolas Cage\, 9 Hallmark Christmas movies\, and with four decades worth of film\, TV and stage credits\, makes her return to The Ark with songs from full length Christmas album\, “I Think I’m Spending Christmas With You.”  \nA classically trained\, award winning pianist and Billboard Top 30 charting singer-songwriter\, Alicia will get you in the holiday spirit with this festive show. Featuring nine heartfelt and uplifting originals and three holiday standards\, you’ll hear selections from the album\, as well as Alicia’s previously released original Christmas songs\, many of which you’ve heard in her Hallmark movies over the years.  \nVIP tickets include a general admission ticket to the performance\, early entry into the venue\, and a pre-show meet & greet including autographs and a photo opportunity. Limited tickets available.
URL:https://theark.org/event/alicia-witt-251218/
LOCATION:The Ark\, 316 S. Main\, Ann Arbor\, MI\, 48104\, United States
ATTACH;FMTTYPE=image/jpeg:https://theark.org/wp-content/uploads/2025/08/XMas-AW-travis-commeau-511-Pano.jpg
END:VEVENT
END:VCALENDAR