BEGIN:VCALENDAR
VERSION:2.0
PRODID:-//The Ark - ECPv6.15.20//NONSGML v1.0//EN
CALSCALE:GREGORIAN
METHOD:PUBLISH
X-WR-CALNAME:The Ark
X-ORIGINAL-URL:https://theark.org
X-WR-CALDESC:Events for The Ark
REFRESH-INTERVAL;VALUE=DURATION:PT1H
X-Robots-Tag:noindex
X-PUBLISHED-TTL:PT1H
BEGIN:VTIMEZONE
TZID:America/Detroit
BEGIN:DAYLIGHT
TZOFFSETFROM:-0500
TZOFFSETTO:-0400
TZNAME:EDT
DTSTART:20240310T070000
END:DAYLIGHT
BEGIN:STANDARD
TZOFFSETFROM:-0400
TZOFFSETTO:-0500
TZNAME:EST
DTSTART:20241103T060000
END:STANDARD
BEGIN:DAYLIGHT
TZOFFSETFROM:-0500
TZOFFSETTO:-0400
TZNAME:EDT
DTSTART:20250309T070000
END:DAYLIGHT
BEGIN:STANDARD
TZOFFSETFROM:-0400
TZOFFSETTO:-0500
TZNAME:EST
DTSTART:20251102T060000
END:STANDARD
BEGIN:DAYLIGHT
TZOFFSETFROM:-0500
TZOFFSETTO:-0400
TZNAME:EDT
DTSTART:20260308T070000
END:DAYLIGHT
BEGIN:STANDARD
TZOFFSETFROM:-0400
TZOFFSETTO:-0500
TZNAME:EST
DTSTART:20261101T060000
END:STANDARD
END:VTIMEZONE
BEGIN:VEVENT
DTSTART;TZID=America/Detroit:20251205T200000
DTEND;TZID=America/Detroit:20251205T230000
DTSTAMP:20260422T063934
CREATED:20251016T140020Z
LAST-MODIFIED:20251014T151833Z
UID:10001061-1764964800-1764975600@theark.org
SUMMARY:Dom Flemons
DESCRIPTION:Ticket prices on our website reflect all-in pricing for purchases made online or by phone.  This means the price you see includes the ticket price plus MUTO’s ticket processing fee. Tickets may be purchased with no included fees in person at The Ark during box office hours. \nDom Flemons is known as “The American Songster®” since his repertoire covers over one hundred years of American roots music. Flemons is a folk musician\, black country artist\, songwriter\, multi-instrumentalist\, music scholar\, historian\, actor\, slam poet\, record collector\, curator\, podcaster\, cultural commentator\, influencer\, and the creator\, host\, and producer of the American Songster Radio Show on WSM in Nashville\, TN. He is the Co-Founder and original member of the groundbreaking Carolina Chocolate Drops\, the first ever black string band to win a GRAMMY Award. Over the past 25 years\, he has received major awards\, gained world-wide media recognition and has become one of the most influential and highly decorated voices in American roots music. \nAttendance to tonight’s show is free for Ark members at the Solo ($50) level and above!
URL:https://theark.org/event/dom-flemons-251205/
LOCATION:The Ark\, 316 S. Main\, Ann Arbor\, MI\, 48104\, United States
ATTACH;FMTTYPE=image/jpeg:https://theark.org/wp-content/uploads/2024/12/dom-flemons-4-web.jpg
END:VEVENT
END:VCALENDAR