BEGIN:VCALENDAR
VERSION:2.0
PRODID:-//The Ark - ECPv6.15.20//NONSGML v1.0//EN
CALSCALE:GREGORIAN
METHOD:PUBLISH
X-WR-CALNAME:The Ark
X-ORIGINAL-URL:https://theark.org
X-WR-CALDESC:Events for The Ark
REFRESH-INTERVAL;VALUE=DURATION:PT1H
X-Robots-Tag:noindex
X-PUBLISHED-TTL:PT1H
BEGIN:VTIMEZONE
TZID:America/Detroit
BEGIN:DAYLIGHT
TZOFFSETFROM:-0500
TZOFFSETTO:-0400
TZNAME:EDT
DTSTART:20240310T070000
END:DAYLIGHT
BEGIN:STANDARD
TZOFFSETFROM:-0400
TZOFFSETTO:-0500
TZNAME:EST
DTSTART:20241103T060000
END:STANDARD
BEGIN:DAYLIGHT
TZOFFSETFROM:-0500
TZOFFSETTO:-0400
TZNAME:EDT
DTSTART:20250309T070000
END:DAYLIGHT
BEGIN:STANDARD
TZOFFSETFROM:-0400
TZOFFSETTO:-0500
TZNAME:EST
DTSTART:20251102T060000
END:STANDARD
BEGIN:DAYLIGHT
TZOFFSETFROM:-0500
TZOFFSETTO:-0400
TZNAME:EDT
DTSTART:20260308T070000
END:DAYLIGHT
BEGIN:STANDARD
TZOFFSETFROM:-0400
TZOFFSETTO:-0500
TZNAME:EST
DTSTART:20261101T060000
END:STANDARD
END:VTIMEZONE
BEGIN:VEVENT
DTSTART;TZID=America/Detroit:20251118T190000
DTEND;TZID=America/Detroit:20251118T230000
DTSTAMP:20260425T070424
CREATED:20250520T170038Z
LAST-MODIFIED:20251112T142142Z
UID:10000916-1763492400-1763506800@theark.org
SUMMARY:Nick Shoulders
DESCRIPTION:“All Bad\,” the latest album from Nick Shoulders\, ultimately encapsulates everything that makes Nick’s inimitable form of country music so vital: a heady balance of dazzling musicianship and punk defiance\, coupled with gritty eccentricity and a generational connection to the roots of the genre. With a singing style inherited from his family’s vocal lineage\, Nick’s songs achieve the rare feat of imparting difficult truths while inciting a certain joyful abandon\, balancing a sound forged by years of hard travel with a heartfelt reverence for the origins of country music. In the spirit of Hazel Dickens and Jimmy Driftwood\, the incisive yet wildly jubilant All Bad vocally objects to the reckless destruction of the natural landscape and development run rampant\, while still offering plenty of joy and dance-ready rhythms. Spanning a variety of early country styles\, the album’s infectious harmonies shine alongside everything from jangling cajun waltzes to surf-rock infused bluesy ballads–all tied together by a voice seemingly out of place in this century\, yet ever ready to speak up about its problems.  \nSurrounded by a singing style passed down from a time before microphones\, Nick’s childhood of bird call whistles and an over-exposure to southern gospel music eventually steered him toward an adolescence drumming for metal and punk bands\, and subsequent years as an active illustrator and member of Arkansas’s heavy music scene. After numerous personal calamities and a growing obsession with the rural musical traditions of his lifelong home\, Shoulders left the Ozarks and lived out of his van\, singing on the street corners of the west while slowly being drawn to the vibrance of the New Orleans dance and busking world. After forming in early 2018\, the ‘Okay Crawdad’ band flourished briefly in the wildly talented south Louisiana alt-country scene\, culminating in the release of ‘Rather Low’ by the popular YouTube channel Western AF\, catapulting Nick’s songs to a vastly wider audience right as Covid-19 and lockdowns ensued. Since then\, a rapid ascension into the world of touring music has seen Nick playing alongside the likes of Sierra Ferrell and at major festivals such as Stagecoach. With the hard rhythms and heavenly melodies of their newest release\, All Bad\, the band manages to concoct a body of work that is at turns sublimely freewheeling and profoundly illuminating\, yet primed to permanently warp the listener’s perspective to glorious effect.
URL:https://theark.org/event/nick-shoulders-251118/
LOCATION:El Club\, 4114 W Vernor Hwy\, Detroit\, MI\, 48209\, United States
CATEGORIES:Special Event
ATTACH;FMTTYPE=image/jpeg:https://theark.org/wp-content/uploads/2025/05/695721004365-R1-E031-scaled.jpg
END:VEVENT
BEGIN:VEVENT
DTSTART;TZID=America/Detroit:20251118T200000
DTEND;TZID=America/Detroit:20251118T230000
DTSTAMP:20260425T070424
CREATED:20250729T160048Z
LAST-MODIFIED:20250730T193550Z
UID:10000982-1763496000-1763506800@theark.org
SUMMARY:An intimate evening with Shovels & Rope
DESCRIPTION:Ticket prices on our website reflect all-in pricing for purchases made online or by phone.  This means the price you see includes the ticket price plus MUTO’s ticket processing fee. Tickets may be purchased with no included fees in person at The Ark during box office hours. \nShovels & Rope is the Charleston\, South Carolina–based duo of Cary Ann Hearst and Michael Trent. They perform as an energetic two-piece band\, stirring up a righteous racket with two old guitars\, a handful of harmonicas\, the occasional keyboard\, and a junkyard drum kit harvested from an actual garbage heap and adorned with tambourines\, flowers and kitchen rags. But the songs are the deadliest arrows in this duo’s quiver. Since 2010\, Shovels & Rope has been traveling the highways and back roads of North America\, logging hundreds of shows and performing for crowds large and small. If you enjoy the tough new strain of Southern songwriting exemplified by Justin Townes Earle\, Jason Isbell\, the Felice Brothers\, Hayes Carll\, and Butch Walker\, Shovels & Rope are not to be missed.  \nShovels & Rope come to The Ark with their latest album\, Something is Working Up Above My Head.
URL:https://theark.org/event/shovels-rope-251118/
LOCATION:The Ark\, 316 S. Main\, Ann Arbor\, MI\, 48104\, United States
ATTACH;FMTTYPE=image/jpeg:https://theark.org/wp-content/uploads/2025/07/shovels-and-rope-horizontal-web-scaled.jpg
END:VEVENT
END:VCALENDAR