BEGIN:VCALENDAR
VERSION:2.0
PRODID:-//The Ark - ECPv6.15.20//NONSGML v1.0//EN
CALSCALE:GREGORIAN
METHOD:PUBLISH
X-WR-CALNAME:The Ark
X-ORIGINAL-URL:https://theark.org
X-WR-CALDESC:Events for The Ark
REFRESH-INTERVAL;VALUE=DURATION:PT1H
X-Robots-Tag:noindex
X-PUBLISHED-TTL:PT1H
BEGIN:VTIMEZONE
TZID:America/Detroit
BEGIN:DAYLIGHT
TZOFFSETFROM:-0500
TZOFFSETTO:-0400
TZNAME:EDT
DTSTART:20240310T070000
END:DAYLIGHT
BEGIN:STANDARD
TZOFFSETFROM:-0400
TZOFFSETTO:-0500
TZNAME:EST
DTSTART:20241103T060000
END:STANDARD
BEGIN:DAYLIGHT
TZOFFSETFROM:-0500
TZOFFSETTO:-0400
TZNAME:EDT
DTSTART:20250309T070000
END:DAYLIGHT
BEGIN:STANDARD
TZOFFSETFROM:-0400
TZOFFSETTO:-0500
TZNAME:EST
DTSTART:20251102T060000
END:STANDARD
BEGIN:DAYLIGHT
TZOFFSETFROM:-0500
TZOFFSETTO:-0400
TZNAME:EDT
DTSTART:20260308T070000
END:DAYLIGHT
BEGIN:STANDARD
TZOFFSETFROM:-0400
TZOFFSETTO:-0500
TZNAME:EST
DTSTART:20261101T060000
END:STANDARD
END:VTIMEZONE
BEGIN:VEVENT
DTSTART;TZID=America/Detroit:20251115T200000
DTEND;TZID=America/Detroit:20251115T230000
DTSTAMP:20260421T201949
CREATED:20250807T140030Z
LAST-MODIFIED:20251010T173318Z
UID:10000990-1763236800-1763247600@theark.org
SUMMARY:Adam Ezra Group
DESCRIPTION:Ticket prices on our website reflect all-in pricing for purchases made online or by phone.  This means the price you see includes the ticket price plus MUTO’s ticket processing fee. Tickets may be purchased with no included fees in person at The Ark during box office hours. \n“Welcome to Adam Ezra Group\, who\, along with nonprofit organization RallySound\, host a free festival every summer that raised $151\,000 for homeless veterans in 2024.” During the pandemic\, Adam live-streamed for 500 nights in a row. The group co-produced an album with 163 fans\, and Adam takes a month out of each year to visit the living rooms of his fans around the country. \nIf you haven’t connected with Adam Ezra Group yet\, these are just a few examples to help understand how this underground\, Americana songwriter and his bandmates seem to have popped out of nowhere\, establishing a connection with their fans unlike any other\, and are suddenly selling out theaters throughout the Northeast.   \nAdam Ezra will joke with you that while the “nowhere” part might be accurate\, nothing has ever just “popped” for this folk musician\, activist.  Without resources\, connections\, or any kind of clue how the music world works\, Ezra began playing shows over 20 years ago. He played bars\, bookstores\, fields\, and parking lots\, often raising money for causes he cared about; a practice that grew into his nonprofit organization RallySound.   \nSo how did this band operating so far outside the traditional music world come to win New England Music Award’s “Americana Act of the Year” in 2023? What could have happened to inspire John Oates to call Adam and invite him to begin a songwriting friendship that would lead to John producing their upcoming release and co-write\, “Hold Each Other Now”?  What happened to catch the attention of The Wallflowers\, who recently invited AEG to join them on their spring tour\, or SPIN Magazine who recently proclaimed\, “This Independent Underground Folk Band Is Blowing Up Without Selling Out”?  \nIf you ask Adam\, he’ll tell you: “One person at a time\, over many years and thousands of shows\, decided to turn their heads to listen…  It’s no fairytale\, but it sure makes me proud and humbled when I look out from the stage to watch theaters full of people singing along to our music.” \nThese days you’ll find Adam and his bandmates\, Corinna Smith (Fiddle)\, Poche Ponce (Bass)\, and Alex Martin (Percussion)\, constantly out on the road. If you look at their tour schedule now\, you can buy tickets to see them at festivals\, rock venues\, and theaters around the country\, but you will also see their tour continuously peppered with activism and grassroots events; a testament to an artist who will never forget where he came from\, and whose mission is about much more than music.
URL:https://theark.org/event/adam-ezra-group-251115/
LOCATION:The Ark\, 316 S. Main\, Ann Arbor\, MI\, 48104\, United States
ATTACH;FMTTYPE=image/jpeg:https://theark.org/wp-content/uploads/2024/06/Adam-Ezra-Group-24-web-scaled.jpg
END:VEVENT
END:VCALENDAR