BEGIN:VCALENDAR
VERSION:2.0
PRODID:-//The Ark - ECPv6.15.20//NONSGML v1.0//EN
CALSCALE:GREGORIAN
METHOD:PUBLISH
X-ORIGINAL-URL:https://theark.org
X-WR-CALDESC:Events for The Ark
REFRESH-INTERVAL;VALUE=DURATION:PT1H
X-Robots-Tag:noindex
X-PUBLISHED-TTL:PT1H
BEGIN:VTIMEZONE
TZID:America/Detroit
BEGIN:DAYLIGHT
TZOFFSETFROM:-0500
TZOFFSETTO:-0400
TZNAME:EDT
DTSTART:20240310T070000
END:DAYLIGHT
BEGIN:STANDARD
TZOFFSETFROM:-0400
TZOFFSETTO:-0500
TZNAME:EST
DTSTART:20241103T060000
END:STANDARD
BEGIN:DAYLIGHT
TZOFFSETFROM:-0500
TZOFFSETTO:-0400
TZNAME:EDT
DTSTART:20250309T070000
END:DAYLIGHT
BEGIN:STANDARD
TZOFFSETFROM:-0400
TZOFFSETTO:-0500
TZNAME:EST
DTSTART:20251102T060000
END:STANDARD
BEGIN:DAYLIGHT
TZOFFSETFROM:-0500
TZOFFSETTO:-0400
TZNAME:EDT
DTSTART:20260308T070000
END:DAYLIGHT
BEGIN:STANDARD
TZOFFSETFROM:-0400
TZOFFSETTO:-0500
TZNAME:EST
DTSTART:20261101T060000
END:STANDARD
END:VTIMEZONE
BEGIN:VEVENT
DTSTART;TZID=America/Detroit:20251111T193000
DTEND;TZID=America/Detroit:20251111T230000
DTSTAMP:20260423T022310
CREATED:20250904T140031Z
LAST-MODIFIED:20251022T161558Z
UID:10001020-1762889400-1762902000@theark.org
SUMMARY:Veterans for Peace Concert
DESCRIPTION:Ticket prices on our website reflect all-in pricing for purchases made online or by phone.  This means the price you see includes the ticket price plus MUTO’s ticket processing fee. Tickets may be purchased with no included fees in person at The Ark during box office hours. \nThis annual concert benefits the Veterans for Peace Chapter 93 Peace Scholarship Fund. Proceeds will go to scholarships for college students enrolled in an accredited peace studies program and for programs to assist combat veterans suffering from serious trauma. This year’s lineup includes Laith Al-Saadi\, Judy Banker\, Al Bettis\, Dave Boutette and Kristi Davis\, Chris Buhalis\, Annie & Rod Capps\, Rochelle Clark\, Lauren Crane\, Dave Keeney & Sophie Hanifi\, Shari Kane & Dave Steele\, Billy King\, Pontiac Trailblazers\, Maddy Ringo\, Michael Smith\, Rollie Tussing\, and Matt Watroba. \nNote early start time!
URL:https://theark.org/event/veterans-for-peace-concert-251111/
LOCATION:The Ark\, 316 S. Main\, Ann Arbor\, MI\, 48104\, United States
ATTACH;FMTTYPE=image/jpeg:https://theark.org/wp-content/uploads/2025/09/Concert-for-Peace-25-e1761149611420.jpg
END:VEVENT
END:VCALENDAR