BEGIN:VCALENDAR
VERSION:2.0
PRODID:-//The Ark - ECPv6.15.20//NONSGML v1.0//EN
CALSCALE:GREGORIAN
METHOD:PUBLISH
X-ORIGINAL-URL:https://theark.org
X-WR-CALDESC:Events for The Ark
REFRESH-INTERVAL;VALUE=DURATION:PT1H
X-Robots-Tag:noindex
X-PUBLISHED-TTL:PT1H
BEGIN:VTIMEZONE
TZID:America/Detroit
BEGIN:DAYLIGHT
TZOFFSETFROM:-0500
TZOFFSETTO:-0400
TZNAME:EDT
DTSTART:20240310T070000
END:DAYLIGHT
BEGIN:STANDARD
TZOFFSETFROM:-0400
TZOFFSETTO:-0500
TZNAME:EST
DTSTART:20241103T060000
END:STANDARD
BEGIN:DAYLIGHT
TZOFFSETFROM:-0500
TZOFFSETTO:-0400
TZNAME:EDT
DTSTART:20250309T070000
END:DAYLIGHT
BEGIN:STANDARD
TZOFFSETFROM:-0400
TZOFFSETTO:-0500
TZNAME:EST
DTSTART:20251102T060000
END:STANDARD
BEGIN:DAYLIGHT
TZOFFSETFROM:-0500
TZOFFSETTO:-0400
TZNAME:EDT
DTSTART:20260308T070000
END:DAYLIGHT
BEGIN:STANDARD
TZOFFSETFROM:-0400
TZOFFSETTO:-0500
TZNAME:EST
DTSTART:20261101T060000
END:STANDARD
END:VTIMEZONE
BEGIN:VEVENT
DTSTART;TZID=America/Detroit:20251106T200000
DTEND;TZID=America/Detroit:20251106T230000
DTSTAMP:20260421T235419
CREATED:20250710T140014Z
LAST-MODIFIED:20250908T141318Z
UID:10000963-1762459200-1762470000@theark.org
SUMMARY:The Rebel Eves
DESCRIPTION:Ticket prices on our website reflect all-in pricing for purchases made online or by phone.  This means the price you see includes the ticket price plus MUTO’s ticket processing fee. Tickets may be purchased with no included fees in person at The Ark during box office hours. \nThe Rebel Eves started with a “stars-aligning” type of friendship and musical collaboration. Composed of three Michigan bred award winning songwriters\, Katie Pederson\, Grace Theisen and Jilian Linklater have spent the better part of the last decade writing\, touring\, and harmonizing across the country with successful solo careers. They have quickly won over the hearts of their audiences with their honest storytelling\, hair raising harmonies\, and compelling lyricism that makes for true listening room moments attendees won’t soon forget. Cultivating moments of vulnerability\, laughter\, original songs\, and incredible 3-part harmonies in their shows\, they can promise you will walk away feeling inspired\, connected\, and hopeful. Their first EP\, Shake The Ground\, will be out this September. You can hear the first two singles off this album\, American Dream and Rebel Eve on all streaming platforms. Their full length album will be out in the spring of 2026.
URL:https://theark.org/event/the-rebel-eves-251106/
LOCATION:The Ark\, 316 S. Main\, Ann Arbor\, MI\, 48104\, United States
ATTACH;FMTTYPE=image/jpeg:https://theark.org/wp-content/uploads/2025/07/Rebel-Eves-Press-1-web-scaled-e1752071023282.jpg
END:VEVENT
END:VCALENDAR