BEGIN:VCALENDAR
VERSION:2.0
PRODID:-//The Ark - ECPv6.15.20//NONSGML v1.0//EN
CALSCALE:GREGORIAN
METHOD:PUBLISH
X-WR-CALNAME:The Ark
X-ORIGINAL-URL:https://theark.org
X-WR-CALDESC:Events for The Ark
REFRESH-INTERVAL;VALUE=DURATION:PT1H
X-Robots-Tag:noindex
X-PUBLISHED-TTL:PT1H
BEGIN:VTIMEZONE
TZID:America/Detroit
BEGIN:DAYLIGHT
TZOFFSETFROM:-0500
TZOFFSETTO:-0400
TZNAME:EDT
DTSTART:20240310T070000
END:DAYLIGHT
BEGIN:STANDARD
TZOFFSETFROM:-0400
TZOFFSETTO:-0500
TZNAME:EST
DTSTART:20241103T060000
END:STANDARD
BEGIN:DAYLIGHT
TZOFFSETFROM:-0500
TZOFFSETTO:-0400
TZNAME:EDT
DTSTART:20250309T070000
END:DAYLIGHT
BEGIN:STANDARD
TZOFFSETFROM:-0400
TZOFFSETTO:-0500
TZNAME:EST
DTSTART:20251102T060000
END:STANDARD
BEGIN:DAYLIGHT
TZOFFSETFROM:-0500
TZOFFSETTO:-0400
TZNAME:EDT
DTSTART:20260308T070000
END:DAYLIGHT
BEGIN:STANDARD
TZOFFSETFROM:-0400
TZOFFSETTO:-0500
TZNAME:EST
DTSTART:20261101T060000
END:STANDARD
END:VTIMEZONE
BEGIN:VEVENT
DTSTART;TZID=America/Detroit:20251105T200000
DTEND;TZID=America/Detroit:20251105T230000
DTSTAMP:20260422T063839
CREATED:20250422T160012Z
LAST-MODIFIED:20251029T180822Z
UID:10000891-1762372800-1762383600@theark.org
SUMMARY:S. G. Goodman
DESCRIPTION:Ticket prices on our website reflect all-in pricing for purchases made online or by phone.  This means the price you see includes the ticket price plus MUTO’s ticket processing fee. Tickets may be purchased with no included fees in person at The Ark during box office hours. \nS.G. Goodman returns from the Western Kentucky bottomland with her latest full-length album\, Planting by the Signs\, Available June 20\, 2025 on her very own Slough Water Records via Thirty Tigers. Composed of songs inspired by love\, loss\, reconciliation\, and the aforementioned ancient practice. Eleven tracks highlighted by the critically-acclaimed and award-winning artist’s singular voice and her penchant for juxtaposing vulnerable folk music with punchy rock ‘n roll\, replete with chiming guitars\, ethereal atmospherics\, and her DIY ethos. Goodman provides a timely reminder that the only way forward is together\, and that we must always take into account humanity’s dependence on and responsibility to the natural world. \nTonight’s show sponsored by DARTBANK Wealth
URL:https://theark.org/event/s-g-goodman-251105/
LOCATION:The Ark\, 316 S. Main\, Ann Arbor\, MI\, 48104\, United States
CATEGORIES:Low Ticket Alert
ATTACH;FMTTYPE=image/jpeg:https://theark.org/wp-content/uploads/2025/04/SG-Horizontal11-lead-press-photo-web-scaled.jpg
END:VEVENT
END:VCALENDAR