BEGIN:VCALENDAR
VERSION:2.0
PRODID:-//The Ark - ECPv6.15.20//NONSGML v1.0//EN
CALSCALE:GREGORIAN
METHOD:PUBLISH
X-WR-CALNAME:The Ark
X-ORIGINAL-URL:https://theark.org
X-WR-CALDESC:Events for The Ark
REFRESH-INTERVAL;VALUE=DURATION:PT1H
X-Robots-Tag:noindex
X-PUBLISHED-TTL:PT1H
BEGIN:VTIMEZONE
TZID:America/Detroit
BEGIN:DAYLIGHT
TZOFFSETFROM:-0500
TZOFFSETTO:-0400
TZNAME:EDT
DTSTART:20240310T070000
END:DAYLIGHT
BEGIN:STANDARD
TZOFFSETFROM:-0400
TZOFFSETTO:-0500
TZNAME:EST
DTSTART:20241103T060000
END:STANDARD
BEGIN:DAYLIGHT
TZOFFSETFROM:-0500
TZOFFSETTO:-0400
TZNAME:EDT
DTSTART:20250309T070000
END:DAYLIGHT
BEGIN:STANDARD
TZOFFSETFROM:-0400
TZOFFSETTO:-0500
TZNAME:EST
DTSTART:20251102T060000
END:STANDARD
BEGIN:DAYLIGHT
TZOFFSETFROM:-0500
TZOFFSETTO:-0400
TZNAME:EDT
DTSTART:20260308T070000
END:DAYLIGHT
BEGIN:STANDARD
TZOFFSETFROM:-0400
TZOFFSETTO:-0500
TZNAME:EST
DTSTART:20261101T060000
END:STANDARD
END:VTIMEZONE
BEGIN:VEVENT
DTSTART;TZID=America/Detroit:20251101T200000
DTEND;TZID=America/Detroit:20251101T230000
DTSTAMP:20260421T013613
CREATED:20250717T140005Z
LAST-MODIFIED:20251008T182458Z
UID:10000972-1762027200-1762038000@theark.org
SUMMARY:Both Sides Now: The Music and Lives of Joni Mitchell and Leonard Cohen
DESCRIPTION:“Two singer-songwriters sit on the edge of a cliff…” \nWith these words\, we are drawn into the world of Both Sides Now – a theatrical concert that explores the music and lives of long-time friends and one-time lovers\, Joni Mitchell and Leonard Cohen. Created by\, and starring Robbie Schaefer and Danielle Wertz\, the cabaret-style performance traverses decades alongside songs such as A Case of You\, Hallelujah\, Big Yellow Taxi\, Suzanne\, and many more. Both Sides Now is at once a piece of the 60’s and 70’s\, and of right now — offering us a story about the messiness of being human\, of lives persistently lived at the edge of growth\, and of finding the courage to turn toward one another\, again and again. \nRobbie Schaefer \nRobbie is a rabbi\, singer-songwriter and theatre/film artist. The guitarist and songwriter for the indie folk band Eddie From Ohio has several solo releases as well\, including the 2023 single Under the Sun. \nHe is currently at work on a new musical\, The Blue Poppy\, an Irish-Jewish ghost story written in collaboration with Scottish playwright Grace Barnes\, and Songs From The Wilderness\, a new album of Jewish musical midrash (interpretation)\, due for release in early 2026.  \nDanielle Wertz \nDanielle is a storyteller\, collaborator\, jazz musician\, composer and arranger. After being named a 2015 Thelonious Monk International Jazz Vocals Competition semi-finalist\, Danielle independently released her debut album\, Intertwined\, which ranked #4 on Capital Bop’s list of “Best DC Jazz Albums of 2017.” That same year she placed 2nd in the Ella Fitzgerald Jazz Vocal Competition and 3rd in the Mid-Atlantic Jazz Vocal Competition. \nIn 2023 Danielle released her sophomore album\, Other Side. With this project she made a quantum leap as a composer and conceptualist. The album pairs her original compositions with carefully crafted arrangements of standards from the Great American Songbook. Jazziz called the album “expressive and polished” and Jazz Weekly noticed a “Joni Mitchell’d tenderness to her material.”
URL:https://theark.org/event/both-sides-now-251101/
LOCATION:The Ark\, 316 S. Main\, Ann Arbor\, MI\, 48104\, United States
ATTACH;FMTTYPE=image/png:https://theark.org/wp-content/uploads/2025/07/Both-Sides-Now-Blank-Template-Poster-for-Venues-e1752679443776.png
END:VEVENT
END:VCALENDAR