BEGIN:VCALENDAR
VERSION:2.0
PRODID:-//The Ark - ECPv6.15.20//NONSGML v1.0//EN
CALSCALE:GREGORIAN
METHOD:PUBLISH
X-ORIGINAL-URL:https://theark.org
X-WR-CALDESC:Events for The Ark
REFRESH-INTERVAL;VALUE=DURATION:PT1H
X-Robots-Tag:noindex
X-PUBLISHED-TTL:PT1H
BEGIN:VTIMEZONE
TZID:America/Detroit
BEGIN:DAYLIGHT
TZOFFSETFROM:-0500
TZOFFSETTO:-0400
TZNAME:EDT
DTSTART:20240310T070000
END:DAYLIGHT
BEGIN:STANDARD
TZOFFSETFROM:-0400
TZOFFSETTO:-0500
TZNAME:EST
DTSTART:20241103T060000
END:STANDARD
BEGIN:DAYLIGHT
TZOFFSETFROM:-0500
TZOFFSETTO:-0400
TZNAME:EDT
DTSTART:20250309T070000
END:DAYLIGHT
BEGIN:STANDARD
TZOFFSETFROM:-0400
TZOFFSETTO:-0500
TZNAME:EST
DTSTART:20251102T060000
END:STANDARD
BEGIN:DAYLIGHT
TZOFFSETFROM:-0500
TZOFFSETTO:-0400
TZNAME:EDT
DTSTART:20260308T070000
END:DAYLIGHT
BEGIN:STANDARD
TZOFFSETFROM:-0400
TZOFFSETTO:-0500
TZNAME:EST
DTSTART:20261101T060000
END:STANDARD
END:VTIMEZONE
BEGIN:VEVENT
DTSTART;TZID=America/Detroit:20251031T200000
DTEND;TZID=America/Detroit:20251031T230000
DTSTAMP:20260421T072108
CREATED:20250904T140042Z
LAST-MODIFIED:20250905T150737Z
UID:10001021-1761940800-1761951600@theark.org
SUMMARY:Brain Plasticity Ukulele Collective & Blueshouse
DESCRIPTION:Ticket prices on our website reflect all-in pricing for purchases made online or by phone.  This means the price you see includes the ticket price plus MUTO’s ticket processing fee. Tickets may be purchased with no included fees in person at The Ark during box office hours. \nAnn Arbor’s Brain Plasticity Ukulele Collective is a proudly intergenerational group\, sharing instruments\, knowledge\, kindness\, and talent across eras. Instruments you might hear in the music of the collective include not only ukuleles but also guitar\, flute\, percussion\, harmonica\, accordion\, mandolin\, mandola\, bass\, piano\, and melodica. The group is inspired by the idea that music cuts across diverse cognitive capabilities and resources\, including numeracy\, language\, and space perception. \nMike Brooks\, veteran blues guitar player/singer/songwriter from the UK has been playing guitar since the age of 10\, and professionally since the age of 16. His musical career and accolades are many and varied\, but include hitting the UK charts in 1979 (#28 on “the New Wave of British Heavy Metal” despite being a blues band)\, getting a cease and desist order from Walt Disney Corp for using a band name too close to that of a cartoon mouse\, opening for bands such as the Yardbirds\, the Animals\, Wishbone Ash and Nine Below Zero\, and playing in some of the most famous venues anywhere such as London’s Marquee\, and\, well\, The Ark! In addition to leading BLUESHOUSE and fronting the Brain Plasticity Ukulele Collective\, he also works with Ann Arbor’s youth at the Neutral Zone\, a continuation of a youth music project begun in the UK called Electric896\, which taught disengaged youth how to rock the blues. \nCancer Support Community of Greater Ann Arbor is a local nonprofit affiliate of The International Cancer Support Community (CSC)\, opening our doors in 2007. The Cancer Support Community is the largest and most comprehensive program in the country devoted solely to providing emotional support and education to people with cancer\, their caregivers and children – all free of charge.
URL:https://theark.org/event/brain-plasticity-ukulele-collective-251031/
LOCATION:The Ark\, 316 S. Main\, Ann Arbor\, MI\, 48104\, United States
ATTACH;FMTTYPE=image/jpeg:https://theark.org/wp-content/uploads/2025/09/BPUC-full-band-5-ark-scaled.jpg
END:VEVENT
END:VCALENDAR