BEGIN:VCALENDAR
VERSION:2.0
PRODID:-//The Ark - ECPv6.15.20//NONSGML v1.0//EN
CALSCALE:GREGORIAN
METHOD:PUBLISH
X-WR-CALNAME:The Ark
X-ORIGINAL-URL:https://theark.org
X-WR-CALDESC:Events for The Ark
REFRESH-INTERVAL;VALUE=DURATION:PT1H
X-Robots-Tag:noindex
X-PUBLISHED-TTL:PT1H
BEGIN:VTIMEZONE
TZID:America/Detroit
BEGIN:DAYLIGHT
TZOFFSETFROM:-0500
TZOFFSETTO:-0400
TZNAME:EDT
DTSTART:20240310T070000
END:DAYLIGHT
BEGIN:STANDARD
TZOFFSETFROM:-0400
TZOFFSETTO:-0500
TZNAME:EST
DTSTART:20241103T060000
END:STANDARD
BEGIN:DAYLIGHT
TZOFFSETFROM:-0500
TZOFFSETTO:-0400
TZNAME:EDT
DTSTART:20250309T070000
END:DAYLIGHT
BEGIN:STANDARD
TZOFFSETFROM:-0400
TZOFFSETTO:-0500
TZNAME:EST
DTSTART:20251102T060000
END:STANDARD
BEGIN:DAYLIGHT
TZOFFSETFROM:-0500
TZOFFSETTO:-0400
TZNAME:EDT
DTSTART:20260308T070000
END:DAYLIGHT
BEGIN:STANDARD
TZOFFSETFROM:-0400
TZOFFSETTO:-0500
TZNAME:EST
DTSTART:20261101T060000
END:STANDARD
END:VTIMEZONE
BEGIN:VEVENT
DTSTART;TZID=America/Detroit:20251024T200000
DTEND;TZID=America/Detroit:20251024T230000
DTSTAMP:20260422T033636
CREATED:20250617T160016Z
LAST-MODIFIED:20251020T203944Z
UID:10000953-1761336000-1761346800@theark.org
SUMMARY:Steve Poltz
DESCRIPTION:It might’ve even been last night\, but Steve Poltz just played the greatest show of his life. Guess what? \nThe next show will be even greater\, making that show the greatest show of his life.  \nAre you starting to notice a trend?  \nHe isn’t shy about it either.  \nEven after most likely thousands of shows (but who’s counting?)\, he hits the stage with the same amount of energy and always makes sure to declare\, “This is the greatest show of my life.”  \nIt’s why he’s quietly emerged as the kind of live phenomenon celebrated passionately by a diehard fanbase worldwide and renowned as a festival favorite everywhere from Bluesfest in Byron Bay and High Sierra Music Festival in California and Telluride Bluegrass Festival in Colorado to Cayamo Cruise (where he actually got married). It’s why his music has crept into pop culture via collaborations with everyone from Jewel and Billy Strings to Molly Tuttle\, Sierra Hull\, Nicki Bluhm\, Oliver Wood\, and even the late Mojo Nixon. It’s why after over a dozen albums\, he’s still creatively firing on all cylinders and critically acclaimed by the likes of Rolling Stone\, Associated Press\, Billboard\, and many more.  \nNevertheless\, the next gig will be the greatest show for him (and maybe for you too)…
URL:https://theark.org/event/steve-poltz-251024/
LOCATION:The Ark\, 316 S. Main\, Ann Arbor\, MI\, 48104\, United States
CATEGORIES:Low Ticket Alert
ATTACH;FMTTYPE=image/jpeg:https://theark.org/wp-content/uploads/2024/02/Steve-poltz-Press-3-credit-Jeff-Fansano-web.jpg
END:VEVENT
END:VCALENDAR