BEGIN:VCALENDAR
VERSION:2.0
PRODID:-//The Ark - ECPv6.15.20//NONSGML v1.0//EN
CALSCALE:GREGORIAN
METHOD:PUBLISH
X-ORIGINAL-URL:https://theark.org
X-WR-CALDESC:Events for The Ark
REFRESH-INTERVAL;VALUE=DURATION:PT1H
X-Robots-Tag:noindex
X-PUBLISHED-TTL:PT1H
BEGIN:VTIMEZONE
TZID:America/Detroit
BEGIN:DAYLIGHT
TZOFFSETFROM:-0500
TZOFFSETTO:-0400
TZNAME:EDT
DTSTART:20240310T070000
END:DAYLIGHT
BEGIN:STANDARD
TZOFFSETFROM:-0400
TZOFFSETTO:-0500
TZNAME:EST
DTSTART:20241103T060000
END:STANDARD
BEGIN:DAYLIGHT
TZOFFSETFROM:-0500
TZOFFSETTO:-0400
TZNAME:EDT
DTSTART:20250309T070000
END:DAYLIGHT
BEGIN:STANDARD
TZOFFSETFROM:-0400
TZOFFSETTO:-0500
TZNAME:EST
DTSTART:20251102T060000
END:STANDARD
BEGIN:DAYLIGHT
TZOFFSETFROM:-0500
TZOFFSETTO:-0400
TZNAME:EDT
DTSTART:20260308T070000
END:DAYLIGHT
BEGIN:STANDARD
TZOFFSETFROM:-0400
TZOFFSETTO:-0500
TZNAME:EST
DTSTART:20261101T060000
END:STANDARD
END:VTIMEZONE
BEGIN:VEVENT
DTSTART;TZID=America/Detroit:20251015T200000
DTEND;TZID=America/Detroit:20251015T230000
DTSTAMP:20260420T223059
CREATED:20250724T150051Z
LAST-MODIFIED:20250821T152554Z
UID:10000979-1760558400-1760569200@theark.org
SUMMARY:Cole Chaney
DESCRIPTION:When it comes to his latest album\, In the Shadow of the Mountain\, 25-year-old singer-songwriter Cole Chaney is pretty candid and blunt about who he is and what kind of music he wants to make — the result of which\, this stunning offering from an artist wise beyond his age. “I’m not concerned with being labeled as ‘country\,’ whatever that means. And I’m kind of fed up with the scene\, it’s not what I’m into right now\,” Chaney says. Pointing to his lifelong admiration for 1990s rock as a vital influence on the sonic landscape of the album\, Chaney aimed to find a melodic balance between that raw and real rock sound and the bluegrass and folk music of his native Kentucky.\n\n“I wanted to make something that sounded like Ralph Stanley went in and got backed up by Soundgarden\,” Chaney notes. “I write what I listen to. And whatever I listen to is going to come out in my music.”\n\nFor Chaney\, even though he’s only in his mid-twenties\, his journey has been long and bountiful already. From growing up in rural Appalachia to going to welding school\, only to leave it behind and take a leap of faith when an opportunity to pursue music emerged. That life-changing decision led to Chaney hitting the road and finding work at The Burl\, a storied Lexington music venue. Chaney has come full circle with The Burl\, by selling out the space on multiple occasions to fervent crowds\, including the large outdoor stage. \nWith In the Shadow of the Mountain being the latest milestone for Chaney\, what remains is this driven musician in search of not only himself and his sound\, but also an audience just as hungry — for something new\, something different\, and yet something so familiar.
URL:https://theark.org/event/cole-chaney-251015/
LOCATION:The Ark\, 316 S. Main\, Ann Arbor\, MI\, 48104\, United States
ATTACH;FMTTYPE=image/jpeg:https://theark.org/wp-content/uploads/2025/07/Copy-of-ColeChaney_TimDuggan_TAD06382-1-scaled.jpg
END:VEVENT
END:VCALENDAR