BEGIN:VCALENDAR
VERSION:2.0
PRODID:-//The Ark - ECPv6.15.20//NONSGML v1.0//EN
CALSCALE:GREGORIAN
METHOD:PUBLISH
X-WR-CALNAME:The Ark
X-ORIGINAL-URL:https://theark.org
X-WR-CALDESC:Events for The Ark
REFRESH-INTERVAL;VALUE=DURATION:PT1H
X-Robots-Tag:noindex
X-PUBLISHED-TTL:PT1H
BEGIN:VTIMEZONE
TZID:America/Detroit
BEGIN:DAYLIGHT
TZOFFSETFROM:-0500
TZOFFSETTO:-0400
TZNAME:EDT
DTSTART:20240310T070000
END:DAYLIGHT
BEGIN:STANDARD
TZOFFSETFROM:-0400
TZOFFSETTO:-0500
TZNAME:EST
DTSTART:20241103T060000
END:STANDARD
BEGIN:DAYLIGHT
TZOFFSETFROM:-0500
TZOFFSETTO:-0400
TZNAME:EDT
DTSTART:20250309T070000
END:DAYLIGHT
BEGIN:STANDARD
TZOFFSETFROM:-0400
TZOFFSETTO:-0500
TZNAME:EST
DTSTART:20251102T060000
END:STANDARD
BEGIN:DAYLIGHT
TZOFFSETFROM:-0500
TZOFFSETTO:-0400
TZNAME:EDT
DTSTART:20260308T070000
END:DAYLIGHT
BEGIN:STANDARD
TZOFFSETFROM:-0400
TZOFFSETTO:-0500
TZNAME:EST
DTSTART:20261101T060000
END:STANDARD
END:VTIMEZONE
BEGIN:VEVENT
DTSTART;TZID=America/Detroit:20251012T193000
DTEND;TZID=America/Detroit:20251012T230000
DTSTAMP:20260421T164021
CREATED:20250612T140020Z
LAST-MODIFIED:20250613T141018Z
UID:10000945-1760297400-1760310000@theark.org
SUMMARY:Shawn Phillips
DESCRIPTION:Ticket prices on our website reflect all-in pricing for purchases made online or by phone.  This means the price you see includes the ticket price plus MUTO’s ticket processing fee. Tickets may be purchased with no included fees in person at The Ark during box office hours. \nThe man who taught Joni Mitchell her first guitar techniques\, who also taught George Harrison of the Beatles his first lessons on Sitar\, the man who wrote the music to Donovan’s “Season Of The Witch” and has played with many of the finest musicians in the world including Eric Clapton and Steve Winwood. He’s produced 27 albums and is known around the world for his refusal to bow down to commercialism in the music industry. \nHe has done what many singer/songwriters don’t do\, which is to continue to evolve his creative skills in his concerts. When he comes into a venue\, he brings the sounds of an entire Symphony Orchestra in real time and plays the songs so many love as close as possible to what was recorded on the albums. All in real time! All solo!
URL:https://theark.org/event/shawn-phillips-251012/
LOCATION:The Ark\, 316 S. Main\, Ann Arbor\, MI\, 48104\, United States
ATTACH;FMTTYPE=image/jpeg:https://theark.org/wp-content/uploads/2025/06/Shawn-Phillips-2024b-scaled.jpg
END:VEVENT
END:VCALENDAR