BEGIN:VCALENDAR
VERSION:2.0
PRODID:-//The Ark - ECPv6.15.20//NONSGML v1.0//EN
CALSCALE:GREGORIAN
METHOD:PUBLISH
X-ORIGINAL-URL:https://theark.org
X-WR-CALDESC:Events for The Ark
REFRESH-INTERVAL;VALUE=DURATION:PT1H
X-Robots-Tag:noindex
X-PUBLISHED-TTL:PT1H
BEGIN:VTIMEZONE
TZID:America/Detroit
BEGIN:DAYLIGHT
TZOFFSETFROM:-0500
TZOFFSETTO:-0400
TZNAME:EDT
DTSTART:20240310T070000
END:DAYLIGHT
BEGIN:STANDARD
TZOFFSETFROM:-0400
TZOFFSETTO:-0500
TZNAME:EST
DTSTART:20241103T060000
END:STANDARD
BEGIN:DAYLIGHT
TZOFFSETFROM:-0500
TZOFFSETTO:-0400
TZNAME:EDT
DTSTART:20250309T070000
END:DAYLIGHT
BEGIN:STANDARD
TZOFFSETFROM:-0400
TZOFFSETTO:-0500
TZNAME:EST
DTSTART:20251102T060000
END:STANDARD
BEGIN:DAYLIGHT
TZOFFSETFROM:-0500
TZOFFSETTO:-0400
TZNAME:EDT
DTSTART:20260308T070000
END:DAYLIGHT
BEGIN:STANDARD
TZOFFSETFROM:-0400
TZOFFSETTO:-0500
TZNAME:EST
DTSTART:20261101T060000
END:STANDARD
END:VTIMEZONE
BEGIN:VEVENT
DTSTART;TZID=America/Detroit:20251004T200000
DTEND;TZID=America/Detroit:20251004T230000
DTSTAMP:20260422T064226
CREATED:20250508T140018Z
LAST-MODIFIED:20250902T134913Z
UID:10000907-1759608000-1759618800@theark.org
SUMMARY:Eilen Jewell
DESCRIPTION:Ticket prices on our website reflect all-in pricing for purchases made online or by phone.  This means the price you see includes the ticket price plus MUTO’s ticket processing fee. Tickets may be purchased with no included fees in person at The Ark during box office hours. \nHailed by American Songwriter as one of America’s most intriguing\, creative\, and idiosyncratic voices\, Eilen Jewell rises from the ashes on her captivating new album\, Get Behind The Wheel\, picking up the pieces of her shattered world and finding new purpose and meaning after watching her marriage\, her band\, and what felt like her entire career fall apart in a series of spectacular\, heartbreaking implosions. Co produced by multi instrumental wizard Will Kimbrough (Todd Snider\, Hayes Carll)\, the collection pushes the acclaimed singer and songwriters trademark blend of vintage roots noir into more psychedelic territory\, with spacious\, cinematic arrangements complementing her revelatory explorations of grief\, loss\, resilience\, and redemption. \nAn Idaho native\, Jewell built her career the old fashioned way\, touring relentlessly with the kind of undeniable live show that converts the uninitiated into instant acolytes. Over the course of nine albums\, she has crisscrossed the globe countless times and shared bills with the likes of Lucinda Williams\, Loretta Lynn\, Mavis Staples\, Wanda Jackson\, George Jones\, and Emmylou Harris\, Rolling Stone lauded Jewell’s clever writing\, while\, NPR declared that she has a sweet and clear voice with a killer instinct lurking beneath the shiny surface\, and The Washington Post mused that if Neko Case\, Madeleine Peyroux and Billie Holiday had a baby girl who grew up to front a rockabilly band\, she would probably sound a lot like Eilen Jewell.
URL:https://theark.org/event/eilen-jewell-251004/
LOCATION:The Ark\, 316 S. Main\, Ann Arbor\, MI\, 48104\, United States
ATTACH;FMTTYPE=image/jpeg:https://theark.org/wp-content/uploads/2025/05/eilenjewell-25-web-scaled-e1746638228260.jpg
END:VEVENT
END:VCALENDAR