BEGIN:VCALENDAR
VERSION:2.0
PRODID:-//The Ark - ECPv6.15.20//NONSGML v1.0//EN
CALSCALE:GREGORIAN
METHOD:PUBLISH
X-ORIGINAL-URL:https://theark.org
X-WR-CALDESC:Events for The Ark
REFRESH-INTERVAL;VALUE=DURATION:PT1H
X-Robots-Tag:noindex
X-PUBLISHED-TTL:PT1H
BEGIN:VTIMEZONE
TZID:America/Detroit
BEGIN:DAYLIGHT
TZOFFSETFROM:-0500
TZOFFSETTO:-0400
TZNAME:EDT
DTSTART:20240310T070000
END:DAYLIGHT
BEGIN:STANDARD
TZOFFSETFROM:-0400
TZOFFSETTO:-0500
TZNAME:EST
DTSTART:20241103T060000
END:STANDARD
BEGIN:DAYLIGHT
TZOFFSETFROM:-0500
TZOFFSETTO:-0400
TZNAME:EDT
DTSTART:20250309T070000
END:DAYLIGHT
BEGIN:STANDARD
TZOFFSETFROM:-0400
TZOFFSETTO:-0500
TZNAME:EST
DTSTART:20251102T060000
END:STANDARD
BEGIN:DAYLIGHT
TZOFFSETFROM:-0500
TZOFFSETTO:-0400
TZNAME:EDT
DTSTART:20260308T070000
END:DAYLIGHT
BEGIN:STANDARD
TZOFFSETFROM:-0400
TZOFFSETTO:-0500
TZNAME:EST
DTSTART:20261101T060000
END:STANDARD
END:VTIMEZONE
BEGIN:VEVENT
DTSTART;TZID=America/Detroit:20250927T200000
DTEND;TZID=America/Detroit:20250927T230000
DTSTAMP:20260421T052551
CREATED:20250408T150029Z
LAST-MODIFIED:20250717T140129Z
UID:10000881-1759003200-1759014000@theark.org
SUMMARY:Willi Carlisle
DESCRIPTION:Ticket prices on our website reflect all-in pricing for purchases made online or by phone.  This means the price you see includes the ticket price plus MUTO’s ticket processing fee. Tickets may be purchased with no included fees in person at The Ark during box office hours. \nFolksinger Willi Carlisle holds tight the conviction that love is bigger than hate\, and no-one is expendable. Carlisle’s music has always been a dance between absurdity\, spectacle\, and philosophy. On his fourth studio album\, Winged Victory\, Carlisle returns with his signature blend of traditionally-rooted folk music and kaleidoscope of oddball characters to confer with his core tenets in more overt and provocative ways.  \nCarlisle delivers Victory as the next chapter in his long-running direct address to the hope that by understanding our collective suffering we might be free of it. He’s intent on creating art and a well-rounded life in a broken world. The idea began with 2022’s Peculiar\, Missouri when Carlisle proclaimed “your heart’s a big tent\, everybody gets in.” After gathering together all the world’s weirdos and misfits under the big tent\, with 2024’s Critterland\, Carlisle let them loose into the world. Now\, on Winged Victory\, they speak for themselves\, unencumbered by social expectations.   \nVictory\, Carlisle’s first self-produced album\, will be released June 27 via Signature Sounds. It both indulges a few of his wildest dreams (including a version of Richard Thompson’s “Beeswing\,” among several traditional folk song covers)\, and feels like the inevitable sequel to Critterland’s charismatic menagerie of chaos. Though occasionally raunchy\, and routinely provocative\, Victory is not afraid to make a spectacle for the sake of a point. Victory should be understood as a reflection. It revels in the beauty of tiny\, monetarily-worthless moments and things\, offering with them a consideration of our innate humanity. 
URL:https://theark.org/event/willi-carlisle-250927/
LOCATION:The Ark\, 316 S. Main\, Ann Arbor\, MI\, 48104\, United States
ATTACH;FMTTYPE=image/jpeg:https://theark.org/wp-content/uploads/2025/04/Willi_Carlisle_WV_PKit-22-e1743698707504.jpg
END:VEVENT
END:VCALENDAR