BEGIN:VCALENDAR
VERSION:2.0
PRODID:-//The Ark - ECPv6.15.20//NONSGML v1.0//EN
CALSCALE:GREGORIAN
METHOD:PUBLISH
X-ORIGINAL-URL:https://theark.org
X-WR-CALDESC:Events for The Ark
REFRESH-INTERVAL;VALUE=DURATION:PT1H
X-Robots-Tag:noindex
X-PUBLISHED-TTL:PT1H
BEGIN:VTIMEZONE
TZID:America/Detroit
BEGIN:DAYLIGHT
TZOFFSETFROM:-0500
TZOFFSETTO:-0400
TZNAME:EDT
DTSTART:20240310T070000
END:DAYLIGHT
BEGIN:STANDARD
TZOFFSETFROM:-0400
TZOFFSETTO:-0500
TZNAME:EST
DTSTART:20241103T060000
END:STANDARD
BEGIN:DAYLIGHT
TZOFFSETFROM:-0500
TZOFFSETTO:-0400
TZNAME:EDT
DTSTART:20250309T070000
END:DAYLIGHT
BEGIN:STANDARD
TZOFFSETFROM:-0400
TZOFFSETTO:-0500
TZNAME:EST
DTSTART:20251102T060000
END:STANDARD
BEGIN:DAYLIGHT
TZOFFSETFROM:-0500
TZOFFSETTO:-0400
TZNAME:EDT
DTSTART:20260308T070000
END:DAYLIGHT
BEGIN:STANDARD
TZOFFSETFROM:-0400
TZOFFSETTO:-0500
TZNAME:EST
DTSTART:20261101T060000
END:STANDARD
END:VTIMEZONE
BEGIN:VEVENT
DTSTART;TZID=America/Detroit:20250921T193000
DTEND;TZID=America/Detroit:20250921T230000
DTSTAMP:20260422T231618
CREATED:20250728T140038Z
LAST-MODIFIED:20250730T193509Z
UID:10000980-1758483000-1758495600@theark.org
SUMMARY:Dan Rodriguez & Heather Maloney
DESCRIPTION:Ticket prices on our website reflect all-in pricing for purchases made online or by phone.  This means the price you see includes the ticket price plus MUTO’s ticket processing fee. Tickets may be purchased with no included fees in person at The Ark during box office hours. \nMassachusetts-based “writer song-singer” Heather Maloney found music in the midst of three years at a meditation center\, honing a sound moored in days of silent reflection and reverence for storytellers like Joni\, Rilke\, Ken Burns\, and the anonymous authors of Zen parables. While she eventually traded the quiet\, structured life of a yogi for the kinetic life of a touring musician\, the core of her songwriting has remained centered around the same curiosity about our inner world and the desire to articulate it through storytelling. \nWith over 1\,000 international shows and 8 studio albums under her belt\, she has released her most personal record to date\, “Exploding Star”. Written in the wake of her father’s death\, “Exploding Star” is a collection of 12 songs that Maloney originally had no intentions of recording or releasing until some of her closest friends and family convinced her otherwise. \nDan Rodriguez is a whiskey & beer drinking\, fishing & hunting loving\, motorcycle riding\, quality food eating\, hippie sympathizing\, hobby farm running\, people loving\, husband & father who lives in Minneapolis and shares a life with his amazing wife and two adorable sons named Oak and Alder. Dan grew up in the suburbs of Detroit\, MI\, and moved to Minneapolis to study music. He stayed because he’s one of those crazy people that enjoys the snow and cold weather. \nWhen not in his studio writing and cutting records\, or on the road playing shows\, Dan is usually playing in the woods with his boys\, tending to his backyard chickens\, eating fresh veggies from his wife’s huge garden\, making syrup from their maple grove\, or doing one of his many outdoor hobbies.
URL:https://theark.org/event/dan-rodriguez-heather-maloney/
LOCATION:The Ark\, 316 S. Main\, Ann Arbor\, MI\, 48104\, United States
ATTACH;FMTTYPE=image/png:https://theark.org/wp-content/uploads/2025/07/DanRodriguez-HeatherMaloney-1080x1350-250921-e1753470001761.png
END:VEVENT
END:VCALENDAR