BEGIN:VCALENDAR
VERSION:2.0
PRODID:-//The Ark - ECPv6.15.20//NONSGML v1.0//EN
CALSCALE:GREGORIAN
METHOD:PUBLISH
X-WR-CALNAME:The Ark
X-ORIGINAL-URL:https://theark.org
X-WR-CALDESC:Events for The Ark
REFRESH-INTERVAL;VALUE=DURATION:PT1H
X-Robots-Tag:noindex
X-PUBLISHED-TTL:PT1H
BEGIN:VTIMEZONE
TZID:America/Detroit
BEGIN:DAYLIGHT
TZOFFSETFROM:-0500
TZOFFSETTO:-0400
TZNAME:EDT
DTSTART:20240310T070000
END:DAYLIGHT
BEGIN:STANDARD
TZOFFSETFROM:-0400
TZOFFSETTO:-0500
TZNAME:EST
DTSTART:20241103T060000
END:STANDARD
BEGIN:DAYLIGHT
TZOFFSETFROM:-0500
TZOFFSETTO:-0400
TZNAME:EDT
DTSTART:20250309T070000
END:DAYLIGHT
BEGIN:STANDARD
TZOFFSETFROM:-0400
TZOFFSETTO:-0500
TZNAME:EST
DTSTART:20251102T060000
END:STANDARD
BEGIN:DAYLIGHT
TZOFFSETFROM:-0500
TZOFFSETTO:-0400
TZNAME:EDT
DTSTART:20260308T070000
END:DAYLIGHT
BEGIN:STANDARD
TZOFFSETFROM:-0400
TZOFFSETTO:-0500
TZNAME:EST
DTSTART:20261101T060000
END:STANDARD
END:VTIMEZONE
BEGIN:VEVENT
DTSTART;TZID=America/Detroit:20250918T200000
DTEND;TZID=America/Detroit:20250918T230000
DTSTAMP:20260422T193124
CREATED:20250604T140027Z
LAST-MODIFIED:20250903T144647Z
UID:10000933-1758225600-1758236400@theark.org
SUMMARY:Luke Winslow-King
DESCRIPTION:Ticket prices on our website reflect all-in pricing for purchases made online or by phone.  This means the price you see includes the ticket price plus MUTO’s ticket processing fee. Tickets may be purchased with no included fees in person at The Ark during box office hours. \nOriginally from Cadillac\, Michigan\, Luke Winslow-King is a career guitarist\, singer\, producer\, songwriter\, and a craftsman of sound; blending delta blues\, roots\, rock\, and folk into a rich\, soulful tapestry. His music is a journey through the heart of America\, characterized by masterful guitar work\, captivating lyrics\, and a voice that resonates with authenticity. After having spent more than 15 years in New Orleans\, Luke has gone on and honed his craft on stages across the world\, captivating audiences with his dynamic performances and forming a real and personal connection with his listeners. \nWhether it’s an intimate venue or a large festival stage\, Luke’s live shows are known for their powerful energy and emotional depth\, leaving audiences enthralled and eager for more. His set lists are mostly original compositions\, but also include timeless classics\, each delivered with a level of artistry that is both rare and refreshing. \nRecorded in Tuscany\, Italy and Memphis\, TN; Luke Winslow-King’s ninth full-length album Flash-A-Magic was released on September 6\, 2024. It features: Rev. Charles Hodges (Al Green)\, Roberto Luti (Playing For Change)\, and Fat Possum recording artists\, The Sensational Barnes Brothers. The album was mixed by Grammy Award-winning engineer Collin DuPuis\, and released/distributed by Bloodshot Records/Exceleration Music
URL:https://theark.org/event/luke-winslow-king-250918/
LOCATION:The Ark\, 316 S. Main\, Ann Arbor\, MI\, 48104\, United States
ATTACH;FMTTYPE=image/jpeg:https://theark.org/wp-content/uploads/2025/06/1.-LWK-SOLO-web-scaled.jpg
END:VEVENT
END:VCALENDAR