BEGIN:VCALENDAR
VERSION:2.0
PRODID:-//The Ark - ECPv6.15.20//NONSGML v1.0//EN
CALSCALE:GREGORIAN
METHOD:PUBLISH
X-ORIGINAL-URL:https://theark.org
X-WR-CALDESC:Events for The Ark
REFRESH-INTERVAL;VALUE=DURATION:PT1H
X-Robots-Tag:noindex
X-PUBLISHED-TTL:PT1H
BEGIN:VTIMEZONE
TZID:America/Detroit
BEGIN:DAYLIGHT
TZOFFSETFROM:-0500
TZOFFSETTO:-0400
TZNAME:EDT
DTSTART:20240310T070000
END:DAYLIGHT
BEGIN:STANDARD
TZOFFSETFROM:-0400
TZOFFSETTO:-0500
TZNAME:EST
DTSTART:20241103T060000
END:STANDARD
BEGIN:DAYLIGHT
TZOFFSETFROM:-0500
TZOFFSETTO:-0400
TZNAME:EDT
DTSTART:20250309T070000
END:DAYLIGHT
BEGIN:STANDARD
TZOFFSETFROM:-0400
TZOFFSETTO:-0500
TZNAME:EST
DTSTART:20251102T060000
END:STANDARD
BEGIN:DAYLIGHT
TZOFFSETFROM:-0500
TZOFFSETTO:-0400
TZNAME:EDT
DTSTART:20260308T070000
END:DAYLIGHT
BEGIN:STANDARD
TZOFFSETFROM:-0400
TZOFFSETTO:-0500
TZNAME:EST
DTSTART:20261101T060000
END:STANDARD
END:VTIMEZONE
BEGIN:VEVENT
DTSTART;TZID=America/Detroit:20250917T200000
DTEND;TZID=America/Detroit:20250917T230000
DTSTAMP:20260425T132715
CREATED:20250710T140043Z
LAST-MODIFIED:20250709T143224Z
UID:10000964-1758139200-1758150000@theark.org
SUMMARY:Abigail Lapell
DESCRIPTION:Ticket prices on our website reflect all-in pricing for purchases made online or by phone.  This means the price you see includes the ticket price plus MUTO’s ticket processing fee. Tickets may be purchased with no included fees in person at The Ark during box office hours. \nToronto songwriter and multi-instrumentalist Abigail Lapell returns with Anniversary\, an evocative collection of original love songs. Produced with Great Lake Swimmers’ Tony Dekker\, the album was recorded at 200-year-old St Mark’s Church in Niagara-on-the-Lake\, Ontario. Dekker helped shape the sessions’ spooky\, resonant sound and also lent his voice to a couple of spellbinding duets. \nLapell’s deft lyrics jostle with love song tropes\, grappling with love’s finitude and the irony of how codependency and longing are revered in popular music. A ghost story is woven through the album: waltzing in the dusty barroom country of “Blue Blaze\,” buried in the superstitious lyrical streak of “Rattlesnake” and audible in a wheezing organ as it shuts down at the end of “Footsteps.” Still\, Anniversary emerges as an earnest celebration of commitment. Earworms like “Anniversary Song” and “Someone Like You” showcase intricately layered harmonies\, while closer “Stars” affirms that there’s no place the speaker would rather be than with the one she loves.\n\nLapell has garnered three Canadian Folk Music Awards\, hit number one on Canadian folk radio and reached a staggering 40 million + streams on Spotify.
URL:https://theark.org/event/abigail-lapell-250917/
LOCATION:The Ark\, 316 S. Main\, Ann Arbor\, MI\, 48104\, United States
ATTACH;FMTTYPE=image/jpeg:https://theark.org/wp-content/uploads/2025/07/AbigailLapell2023_028-2-WEB-scaled.jpg
END:VEVENT
END:VCALENDAR