BEGIN:VCALENDAR
VERSION:2.0
PRODID:-//The Ark - ECPv6.15.20//NONSGML v1.0//EN
CALSCALE:GREGORIAN
METHOD:PUBLISH
X-WR-CALNAME:The Ark
X-ORIGINAL-URL:https://theark.org
X-WR-CALDESC:Events for The Ark
REFRESH-INTERVAL;VALUE=DURATION:PT1H
X-Robots-Tag:noindex
X-PUBLISHED-TTL:PT1H
BEGIN:VTIMEZONE
TZID:America/Detroit
BEGIN:DAYLIGHT
TZOFFSETFROM:-0500
TZOFFSETTO:-0400
TZNAME:EDT
DTSTART:20240310T070000
END:DAYLIGHT
BEGIN:STANDARD
TZOFFSETFROM:-0400
TZOFFSETTO:-0500
TZNAME:EST
DTSTART:20241103T060000
END:STANDARD
BEGIN:DAYLIGHT
TZOFFSETFROM:-0500
TZOFFSETTO:-0400
TZNAME:EDT
DTSTART:20250309T070000
END:DAYLIGHT
BEGIN:STANDARD
TZOFFSETFROM:-0400
TZOFFSETTO:-0500
TZNAME:EST
DTSTART:20251102T060000
END:STANDARD
BEGIN:DAYLIGHT
TZOFFSETFROM:-0500
TZOFFSETTO:-0400
TZNAME:EDT
DTSTART:20260308T070000
END:DAYLIGHT
BEGIN:STANDARD
TZOFFSETFROM:-0400
TZOFFSETTO:-0500
TZNAME:EST
DTSTART:20261101T060000
END:STANDARD
END:VTIMEZONE
BEGIN:VEVENT
DTSTART;TZID=America/Detroit:20250915T200000
DTEND;TZID=America/Detroit:20250915T230000
DTSTAMP:20260423T092130
CREATED:20250715T140001Z
LAST-MODIFIED:20250812T190157Z
UID:10000971-1757966400-1757977200@theark.org
SUMMARY:Joe Henry & Mike Reid
DESCRIPTION:Life & Time is the product of a burgeoning collaboration between songwriting luminaries Joe Henry & Mike Reid. Together\, they’ll perform selections from their collaborative album\, and also feature each as solo artists on selections from their separate catalogues\, all with a shared backing band of Levon Henry on woodwinds and Ross Gallagher on bass/vocals. \nSoundcheck Meet and Greet VIP package includes \n\nOne (1) Reserved Ticket\nSoundcheck Viewing\nMeet and Greet w/ Joe Henry and Mike Reid\nPhoto Op w/ Joe Henry and Mike Reid\nSigning of Up to Three (3) Items\nSigned Set List\n\n 
URL:https://theark.org/event/joe-henry-mike-reid-250915/
LOCATION:The Ark\, 316 S. Main\, Ann Arbor\, MI\, 48104\, United States
ATTACH;FMTTYPE=image/jpeg:https://theark.org/wp-content/uploads/2025/07/color-version-scaled-e1752256474603.jpg
END:VEVENT
END:VCALENDAR