BEGIN:VCALENDAR
VERSION:2.0
PRODID:-//The Ark - ECPv6.15.20//NONSGML v1.0//EN
CALSCALE:GREGORIAN
METHOD:PUBLISH
X-ORIGINAL-URL:https://theark.org
X-WR-CALDESC:Events for The Ark
REFRESH-INTERVAL;VALUE=DURATION:PT1H
X-Robots-Tag:noindex
X-PUBLISHED-TTL:PT1H
BEGIN:VTIMEZONE
TZID:America/Detroit
BEGIN:DAYLIGHT
TZOFFSETFROM:-0500
TZOFFSETTO:-0400
TZNAME:EDT
DTSTART:20240310T070000
END:DAYLIGHT
BEGIN:STANDARD
TZOFFSETFROM:-0400
TZOFFSETTO:-0500
TZNAME:EST
DTSTART:20241103T060000
END:STANDARD
BEGIN:DAYLIGHT
TZOFFSETFROM:-0500
TZOFFSETTO:-0400
TZNAME:EDT
DTSTART:20250309T070000
END:DAYLIGHT
BEGIN:STANDARD
TZOFFSETFROM:-0400
TZOFFSETTO:-0500
TZNAME:EST
DTSTART:20251102T060000
END:STANDARD
BEGIN:DAYLIGHT
TZOFFSETFROM:-0500
TZOFFSETTO:-0400
TZNAME:EDT
DTSTART:20260308T070000
END:DAYLIGHT
BEGIN:STANDARD
TZOFFSETFROM:-0400
TZOFFSETTO:-0500
TZNAME:EST
DTSTART:20261101T060000
END:STANDARD
END:VTIMEZONE
BEGIN:VEVENT
DTSTART;TZID=America/Detroit:20250911T193000
DTEND;TZID=America/Detroit:20250911T230000
DTSTAMP:20260425T152911
CREATED:20250612T172028Z
LAST-MODIFIED:20250909T134345Z
UID:10000949-1757619000-1757631600@theark.org
SUMMARY:Molly Tuttle
DESCRIPTION:On the heels of two Grammy-winning albums in succession\, with her band Golden Highway—2022’s Crooked Tree and 2023’s City of Gold—plus a nomination for Best New Artist\, Molly Tuttle returns with a solo album that’s her most dazzling to date: So Long Little Miss Sunshine.  \nRecorded in Nashville with producer Jay Joyce (Orville Peck\, Miranda Lambert\, Lainey Wilson\, Eric Church\, Cage the Elephant)\, the fifth full album from the California-born\, Nashville-based singer\, songwriter\, and virtuoso guitarist features twelve new songs—eleven originals and one highly unexpected cover of Icona Pop and Charli xcx’s “I Love It.”  \nTuttle’s career\, which began at age fifteen\, has charted a course between honoring bluegrass and stretching its boundaries. On this album—a hybrid of pop\, country\, rock\, and flat-picking\, plus one murder ballad—she goes to a whole new place. Her stunning guitar work is more up-front on this album than ever before. (One of the most decorated female guitarist alive\, Tuttle was the first woman to win the prestigious International Bluegrass Music Award’s Guitar Player of the Year in 2017\, at age twenty-four\, and won again the following year\, with nominations nearly every year since; she has also won Americana Music Association’s Instrumentalist of the Year award.) \nThis event takes place at the Masonic Jack White Theatre\, formerly the Masonic Cathedral Theatre.
URL:https://theark.org/event/molly-tuttle-250911/
LOCATION:Masonic Jack White Theatre\, 500 Temple Street\, Detroit\, MI\, 48201\, United States
CATEGORIES:Special Event
ATTACH;FMTTYPE=image/jpeg:https://theark.org/wp-content/uploads/2025/06/0911-Detroit-MollyTuttle-1920x1080-2.jpg
END:VEVENT
BEGIN:VEVENT
DTSTART;TZID=America/Detroit:20250911T200000
DTEND;TZID=America/Detroit:20250911T230000
DTSTAMP:20260425T152911
CREATED:20250605T140035Z
LAST-MODIFIED:20250827T192904Z
UID:10000935-1757620800-1757631600@theark.org
SUMMARY:The Langan Band
DESCRIPTION:Unfortunately\, due to a family emergency\, The Langan Band has had to cancel this date. Refunds have been issued from original point of purchase. \nFor over 15 years now\, the three members of The Langan Band have been carving out their own lawlessly virtuosic path of sound; rampaging through the boundaries of conventional genre and cavorting into the territories of wild abandon\, purest intimacy\, and unconditional musical elation. \nThe trio were initially brought together by a deep respect of traditional song and music\, yet they discovered a mutual love of the evisceration and regeneration of these pieces into provocative and fascinating new compositions\, as was recognised by the band winning the prestigious Danny Kyle Award at Glasgow’s Celtic Connections Festival at the start of their journey together. This sound and process went on to inform the band’s now mostly original repertoire\, and has resulted in a musical experience quite unlike any other. \nAyrshire-born John Langan is found centre-stage\, seated on an explosive foot percussion rig of his own devising and fronting the trio with intricate fiery guitar rhythms and witheringly sweet and scathing vocals. To his right stands Alastair Caplin\, a classically trained violinist equally discerning in both the London Prog-Folk/Jazz scenes he occupied for years and also the blistering traditional reels and jigs of his native Outer Hebrides. Stage left is the domain of Angus-born Dave Tunstall and his double bass; from here emanates a seductive concoction of eerily-bowed soundscapes\, heart-stopping bass lines\, and in conjunction with Caplin’s blurred bowing a truly monumental wall of orchestral noise. The sound of the group reaches its zenith when all of these instruments are joined by the three voices singing together in razor-tight harmony to create an absolute cacophony of joy. \nWhilst it is possible to see the evidence of influences the band have drawn on and enjoyed (Trad. Scots music\, Eastern European Gypsy\, Bluegrass and American Old-Time to name a few)\, the true nature of the sound from The Langan Band is best described as un-pigeon-holeable\, yet utterly irresistible. \nIn 2024 the band broke onto the North American market with 5 tours of USA & Canada. Through huge mainstage performances at festivals such as Telluride Bluegrass and radio play such as the prestigious Mountain Stage Radio\, they are building a loyal and wild new fanbase across the Atlantic.
URL:https://theark.org/event/the-langan-band-250911/
LOCATION:The Ark\, 316 S. Main\, Ann Arbor\, MI\, 48104\, United States
CATEGORIES:Cancelled
ATTACH;FMTTYPE=image/jpeg:https://theark.org/wp-content/uploads/2025/06/Langan-Band-scaled.jpg
END:VEVENT
END:VCALENDAR