BEGIN:VCALENDAR
VERSION:2.0
PRODID:-//The Ark - ECPv6.15.20//NONSGML v1.0//EN
CALSCALE:GREGORIAN
METHOD:PUBLISH
X-ORIGINAL-URL:https://theark.org
X-WR-CALDESC:Events for The Ark
REFRESH-INTERVAL;VALUE=DURATION:PT1H
X-Robots-Tag:noindex
X-PUBLISHED-TTL:PT1H
BEGIN:VTIMEZONE
TZID:America/Detroit
BEGIN:DAYLIGHT
TZOFFSETFROM:-0500
TZOFFSETTO:-0400
TZNAME:EDT
DTSTART:20240310T070000
END:DAYLIGHT
BEGIN:STANDARD
TZOFFSETFROM:-0400
TZOFFSETTO:-0500
TZNAME:EST
DTSTART:20241103T060000
END:STANDARD
BEGIN:DAYLIGHT
TZOFFSETFROM:-0500
TZOFFSETTO:-0400
TZNAME:EDT
DTSTART:20250309T070000
END:DAYLIGHT
BEGIN:STANDARD
TZOFFSETFROM:-0400
TZOFFSETTO:-0500
TZNAME:EST
DTSTART:20251102T060000
END:STANDARD
BEGIN:DAYLIGHT
TZOFFSETFROM:-0500
TZOFFSETTO:-0400
TZNAME:EDT
DTSTART:20260308T070000
END:DAYLIGHT
BEGIN:STANDARD
TZOFFSETFROM:-0400
TZOFFSETTO:-0500
TZNAME:EST
DTSTART:20261101T060000
END:STANDARD
END:VTIMEZONE
BEGIN:VEVENT
DTSTART;TZID=America/Detroit:20250905T200000
DTEND;TZID=America/Detroit:20250905T230000
DTSTAMP:20260421T192755
CREATED:20250424T140059Z
LAST-MODIFIED:20250513T155507Z
UID:10000893-1757102400-1757113200@theark.org
SUMMARY:The Gibson Brothers
DESCRIPTION:Ticket prices on our website reflect all-in pricing for purchases made online or by phone.  This means the price you see includes the ticket price plus MUTO’s ticket processing fee. Tickets may be purchased with no included fees in person at The Ark during box office hours. \nThere’s a reason why Ricky Skaggs pulled Eric and Leigh Gibson off the stage at the Ryman two decades ago and offered to produce their debut record. The same thing that led David Ferguson and Grammy Award winning producer and Black Keys frontman Dan Auerbach to co-write and produce their 14th album “Mockingbird” (2018) and release it on his own label Easy Eye Sound alongside cultural icons such as Hank Williams Jr. and Dr. John: The Gibson Brothers are the real deal. They can pick. They can sing .And they can write a damn good country song. They’ve won about every bluegrass award you can name and released albums on almost every premier Americana label you can think of including Sugar Hill and Rounder\, and\, if that’s not enough\, their songs have been recorded by bluegrass legends no less than Del McCoury. 
URL:https://theark.org/event/the-gibson-brothers-250905/
LOCATION:The Ark\, 316 S. Main\, Ann Arbor\, MI\, 48104\, United States
ATTACH;FMTTYPE=image/jpeg:https://theark.org/wp-content/uploads/2025/04/Gibson-Brothers-Final-copy-2-web-scaled.jpg
END:VEVENT
END:VCALENDAR