BEGIN:VCALENDAR
VERSION:2.0
PRODID:-//The Ark - ECPv6.15.20//NONSGML v1.0//EN
CALSCALE:GREGORIAN
METHOD:PUBLISH
X-ORIGINAL-URL:https://theark.org
X-WR-CALDESC:Events for The Ark
REFRESH-INTERVAL;VALUE=DURATION:PT1H
X-Robots-Tag:noindex
X-PUBLISHED-TTL:PT1H
BEGIN:VTIMEZONE
TZID:America/Detroit
BEGIN:DAYLIGHT
TZOFFSETFROM:-0500
TZOFFSETTO:-0400
TZNAME:EDT
DTSTART:20240310T070000
END:DAYLIGHT
BEGIN:STANDARD
TZOFFSETFROM:-0400
TZOFFSETTO:-0500
TZNAME:EST
DTSTART:20241103T060000
END:STANDARD
BEGIN:DAYLIGHT
TZOFFSETFROM:-0500
TZOFFSETTO:-0400
TZNAME:EDT
DTSTART:20250309T070000
END:DAYLIGHT
BEGIN:STANDARD
TZOFFSETFROM:-0400
TZOFFSETTO:-0500
TZNAME:EST
DTSTART:20251102T060000
END:STANDARD
BEGIN:DAYLIGHT
TZOFFSETFROM:-0500
TZOFFSETTO:-0400
TZNAME:EDT
DTSTART:20260308T070000
END:DAYLIGHT
BEGIN:STANDARD
TZOFFSETFROM:-0400
TZOFFSETTO:-0500
TZNAME:EST
DTSTART:20261101T060000
END:STANDARD
END:VTIMEZONE
BEGIN:VEVENT
DTSTART;TZID=America/Detroit:20250816T200000
DTEND;TZID=America/Detroit:20250816T230000
DTSTAMP:20260419T114854
CREATED:20250313T140044Z
LAST-MODIFIED:20250731T171114Z
UID:10000861-1755374400-1755385200@theark.org
SUMMARY:George Bedard
DESCRIPTION:Ticket prices on our website reflect all-in pricing for purchases made online or by phone.  This means the price you see includes the ticket price plus MUTO’s ticket processing fee. Tickets may be purchased with no included fees in person at The Ark during box office hours. \nGeorge Bedard will continue his History of American Music series at The Ark on August 16th. This year’s first set will begin a new tradition of exploring many different genres from a particular year – in this case 1959. The second set will be a tribute to the great slide guitarist and blues singer Elmore James.  \n“Midwest musicians all know the legendary guitarist George Bedard. He is the man. Where else am I going to hear authentic rockabilly\, much less pure blues these days as his latest album provides? Bedard’s music has been in my head for decades and I love it. George is a national treasure”. (Michael Erlewine\, Founder of the All-Music Guide) \n“Variety and craft have always been the hallmarks of Bedard’s style. While his music is rooted in what might now be called traditional rock and roll\, he’s a product of the Chicago blues players whom he heard in the clubs and at the Ann Arbor Blues & Jazz Festival. His artistry extends to many streams of twentieth-century music: country\, pop\, and a remarkable amount of jazz in which he artfully reduces ensemble arrangements to the dimensions of a small rock band. He’s a guitar polymath”. (James M. Manheim\, The Ann Arbor Observer) \nA founding member of the Silvertones\, in 1984 he formed the first version of the Kingpins. Their debut CD won CD Reviews “Best Blues CD of the Year” award. He has closed the Ann Arbor Summer Festival for more than 25 years and headlined festivals and clubs from St. Louis to Barcelona. In 2014 he and the Kingpins toured Honduras as part of the U. S. State Department’s Arts Envoy program.  \nBedard has backed such luminaries as Johnnie Johnson\, Muddy Waters\, Bonnie Raitt\, Big Joe Turner\, Earl King\, Eddie Taylor\, Koko Taylor\, Johnny Adams\, and Kim Wilson. As the house guitarist on the Cincinnati Blues Festival’s Arches stage\, he has accompanied dozens of blues\, jazz\, and boogie pianists from all over the world.
URL:https://theark.org/event/george-bedard-250816/
LOCATION:The Ark\, 316 S. Main\, Ann Arbor\, MI\, 48104\, United States
ATTACH;FMTTYPE=image/jpeg:https://theark.org/wp-content/uploads/2022/02/George_Bedard_photocredit_Konwinski_web.jpg
END:VEVENT
END:VCALENDAR