BEGIN:VCALENDAR
VERSION:2.0
PRODID:-//The Ark - ECPv6.15.20//NONSGML v1.0//EN
CALSCALE:GREGORIAN
METHOD:PUBLISH
X-WR-CALNAME:The Ark
X-ORIGINAL-URL:https://theark.org
X-WR-CALDESC:Events for The Ark
REFRESH-INTERVAL;VALUE=DURATION:PT1H
X-Robots-Tag:noindex
X-PUBLISHED-TTL:PT1H
BEGIN:VTIMEZONE
TZID:America/Detroit
BEGIN:DAYLIGHT
TZOFFSETFROM:-0500
TZOFFSETTO:-0400
TZNAME:EDT
DTSTART:20240310T070000
END:DAYLIGHT
BEGIN:STANDARD
TZOFFSETFROM:-0400
TZOFFSETTO:-0500
TZNAME:EST
DTSTART:20241103T060000
END:STANDARD
BEGIN:DAYLIGHT
TZOFFSETFROM:-0500
TZOFFSETTO:-0400
TZNAME:EDT
DTSTART:20250309T070000
END:DAYLIGHT
BEGIN:STANDARD
TZOFFSETFROM:-0400
TZOFFSETTO:-0500
TZNAME:EST
DTSTART:20251102T060000
END:STANDARD
BEGIN:DAYLIGHT
TZOFFSETFROM:-0500
TZOFFSETTO:-0400
TZNAME:EDT
DTSTART:20260308T070000
END:DAYLIGHT
BEGIN:STANDARD
TZOFFSETFROM:-0400
TZOFFSETTO:-0500
TZNAME:EST
DTSTART:20261101T060000
END:STANDARD
END:VTIMEZONE
BEGIN:VEVENT
DTSTART;TZID=America/Detroit:20250727T193000
DTEND;TZID=America/Detroit:20250727T230000
DTSTAMP:20260423T143428
CREATED:20250508T140055Z
LAST-MODIFIED:20250513T154749Z
UID:10000909-1753644600-1753657200@theark.org
SUMMARY:Goldpine & The Burney Sisters
DESCRIPTION:Ticket prices on our website reflect all-in pricing for purchases made online or by phone.  This means the price you see includes the ticket price plus MUTO’s ticket processing fee. Tickets may be purchased with no included fees in person at The Ark during box office hours. \nFrom Bristol Rhythm & Roots Reunion and the Kansas City Chiefs’ Arrowhead Stadium to listening rooms throughout the United States\, husband-wife duo Goldpine has been offering their own brand of bold harmony-driven Americana to audiences large and small. Winner of the 2022 Rocky Mountain Songwriter Contest\, their distinctive harmonies are clearly a channel for their sometimes-raucous\, sometimes-reminiscent compositions. With an incredible collection of stories about life\, love\, and purpose\, their live performance is a powerful projection of everything Goldpine is about: striking vocals\, bold harmony\, and introspection into the human experience. \nThe Burney Sisters are a powerhouse sibling duo redefining indie-folk with their soulful harmonies\, heartfelt lyrics\, and magnetic stage presence. Originally from the Midwest\, sisters Emma and Bella Burney captivate audiences with their infectious energy\, ethereal harmonies\, and storytelling that feels deeply personal yet universally relatable. Their music resonates with fans of both classic Americana and modern indie-folk\, blending the emotional depth of Bonnie Raitt with the innovative spirit of HAIM and First Aid Kit. As they prepare for the release of their highly anticipated debut EP in 2025\, The Burney Sisters are ready to share their unique artistry with the world. Follow their journey as they carve out a space uniquely their own in the ever-evolving landscape of modern folk and Americana.
URL:https://theark.org/event/goldpine-the-burney-sisters-250727/
LOCATION:The Ark\, 316 S. Main\, Ann Arbor\, MI\, 48104\, United States
ATTACH;FMTTYPE=image/jpeg:https://theark.org/wp-content/uploads/2025/05/Goldpine-and-Burney-Sisters.jpg
END:VEVENT
END:VCALENDAR