BEGIN:VCALENDAR
VERSION:2.0
PRODID:-//The Ark - ECPv6.15.20//NONSGML v1.0//EN
CALSCALE:GREGORIAN
METHOD:PUBLISH
X-WR-CALNAME:The Ark
X-ORIGINAL-URL:https://theark.org
X-WR-CALDESC:Events for The Ark
REFRESH-INTERVAL;VALUE=DURATION:PT1H
X-Robots-Tag:noindex
X-PUBLISHED-TTL:PT1H
BEGIN:VTIMEZONE
TZID:America/Detroit
BEGIN:DAYLIGHT
TZOFFSETFROM:-0500
TZOFFSETTO:-0400
TZNAME:EDT
DTSTART:20240310T070000
END:DAYLIGHT
BEGIN:STANDARD
TZOFFSETFROM:-0400
TZOFFSETTO:-0500
TZNAME:EST
DTSTART:20241103T060000
END:STANDARD
BEGIN:DAYLIGHT
TZOFFSETFROM:-0500
TZOFFSETTO:-0400
TZNAME:EDT
DTSTART:20250309T070000
END:DAYLIGHT
BEGIN:STANDARD
TZOFFSETFROM:-0400
TZOFFSETTO:-0500
TZNAME:EST
DTSTART:20251102T060000
END:STANDARD
BEGIN:DAYLIGHT
TZOFFSETFROM:-0500
TZOFFSETTO:-0400
TZNAME:EDT
DTSTART:20260308T070000
END:DAYLIGHT
BEGIN:STANDARD
TZOFFSETFROM:-0400
TZOFFSETTO:-0500
TZNAME:EST
DTSTART:20261101T060000
END:STANDARD
END:VTIMEZONE
BEGIN:VEVENT
DTSTART;TZID=America/Detroit:20250722T200000
DTEND;TZID=America/Detroit:20250722T230000
DTSTAMP:20260419T145649
CREATED:20250506T141026Z
LAST-MODIFIED:20250716T185915Z
UID:10000901-1753214400-1753225200@theark.org
SUMMARY:McKinley James
DESCRIPTION:McKinley James is equal parts old soul and modern man. Armed with an electric guitar and sharp songwriting chops\, he breathes new life into classic sounds with Working Class Blues\, a debut album that introduces his mix of American rock & roll\, amplified soul\, and raw rhythm & blues. \nThe Ark’s Artist Spotlight Series is made possible with support from Ford Philanthropy. It is presented live\, and also livestreamed on The Ark’s Facebook page. \nTonight’s show is FREE (nonperishables accepted for Food Gatherers).
URL:https://theark.org/event/mckinley-james-250722/
LOCATION:The Ark\, 316 S. Main\, Ann Arbor\, MI\, 48104\, United States
CATEGORIES:Artist Spotlight Series
ATTACH;FMTTYPE=image/jpeg:https://theark.org/wp-content/uploads/2025/05/pressshot-McKinley-James-e1746540528589.jpg
END:VEVENT
END:VCALENDAR