BEGIN:VCALENDAR
VERSION:2.0
PRODID:-//The Ark - ECPv6.15.20//NONSGML v1.0//EN
CALSCALE:GREGORIAN
METHOD:PUBLISH
X-ORIGINAL-URL:https://theark.org
X-WR-CALDESC:Events for The Ark
REFRESH-INTERVAL;VALUE=DURATION:PT1H
X-Robots-Tag:noindex
X-PUBLISHED-TTL:PT1H
BEGIN:VTIMEZONE
TZID:America/Detroit
BEGIN:DAYLIGHT
TZOFFSETFROM:-0500
TZOFFSETTO:-0400
TZNAME:EDT
DTSTART:20240310T070000
END:DAYLIGHT
BEGIN:STANDARD
TZOFFSETFROM:-0400
TZOFFSETTO:-0500
TZNAME:EST
DTSTART:20241103T060000
END:STANDARD
BEGIN:DAYLIGHT
TZOFFSETFROM:-0500
TZOFFSETTO:-0400
TZNAME:EDT
DTSTART:20250309T070000
END:DAYLIGHT
BEGIN:STANDARD
TZOFFSETFROM:-0400
TZOFFSETTO:-0500
TZNAME:EST
DTSTART:20251102T060000
END:STANDARD
BEGIN:DAYLIGHT
TZOFFSETFROM:-0500
TZOFFSETTO:-0400
TZNAME:EDT
DTSTART:20260308T070000
END:DAYLIGHT
BEGIN:STANDARD
TZOFFSETFROM:-0400
TZOFFSETTO:-0500
TZNAME:EST
DTSTART:20261101T060000
END:STANDARD
END:VTIMEZONE
BEGIN:VEVENT
DTSTART;TZID=America/Detroit:20250718T180000
DTEND;TZID=America/Detroit:20250718T230000
DTSTAMP:20260420T011352
CREATED:20250618T194426Z
LAST-MODIFIED:20250618T194524Z
UID:10000958-1752861600-1752879600@theark.org
SUMMARY:Summer Sounds at The Ann Arbor Art Fair
DESCRIPTION:We are excited to once again partner with the Ann Arbor Summer Art Fair to bring live music each evening of the art fairs to the Stage on Main at the corner of Main and William in the Palio lot. Stop by and join one of our favorite street parties of the year! \nRabbitology\n6pm \nRabbitology is the project of Nat Timmerman—a world that was pulled from her odd-running mind. A little land of the harebrained and burrowing. Simply follow the three-legged rabbit prints until you’re knee deep in this world’s eclectic soundscapes\, and here you will discover a collection of memoirs turned into fantastical sonic short stories. Stay as long as you like. Make this world your home too. It’s a little unusual in here\, but that’s life! \nJoe & The Ruckus\n7:30pm \nThe Ruckus is a collective with the goal of recontextualizing classic funk and soul music within our 21st century world. They formed during the pandemic and emerged from lock-down as changed people in search of new live music experiences from those typically seen pre-pandemic. The Ruckus rose to and surpassed that expectation\, providing electrifying live concerts with repertoire ranging from the father of funk\, James Brown\, to the king of soul\, Stevie Wonder\, and beyond into more modern artists and have now expanded from their hometown to NYC\, Chicago and Detroit.
URL:https://theark.org/event/summer-sounds-at-the-ann-arbor-art-fair-250718/
LOCATION:The Stage on Main\, 353 S. Main St\, Ann Arbor\, MI\, 48104\, United States
CATEGORIES:Special Event
ATTACH;FMTTYPE=image/jpeg:https://theark.org/wp-content/uploads/2025/06/Rabbitology-Butcheress-38-SQ-scaled-e1750275755391.jpg
END:VEVENT
END:VCALENDAR