BEGIN:VCALENDAR
VERSION:2.0
PRODID:-//The Ark - ECPv6.15.20//NONSGML v1.0//EN
CALSCALE:GREGORIAN
METHOD:PUBLISH
X-ORIGINAL-URL:https://theark.org
X-WR-CALDESC:Events for The Ark
REFRESH-INTERVAL;VALUE=DURATION:PT1H
X-Robots-Tag:noindex
X-PUBLISHED-TTL:PT1H
BEGIN:VTIMEZONE
TZID:America/Detroit
BEGIN:DAYLIGHT
TZOFFSETFROM:-0500
TZOFFSETTO:-0400
TZNAME:EDT
DTSTART:20240310T070000
END:DAYLIGHT
BEGIN:STANDARD
TZOFFSETFROM:-0400
TZOFFSETTO:-0500
TZNAME:EST
DTSTART:20241103T060000
END:STANDARD
BEGIN:DAYLIGHT
TZOFFSETFROM:-0500
TZOFFSETTO:-0400
TZNAME:EDT
DTSTART:20250309T070000
END:DAYLIGHT
BEGIN:STANDARD
TZOFFSETFROM:-0400
TZOFFSETTO:-0500
TZNAME:EST
DTSTART:20251102T060000
END:STANDARD
BEGIN:DAYLIGHT
TZOFFSETFROM:-0500
TZOFFSETTO:-0400
TZNAME:EDT
DTSTART:20260308T070000
END:DAYLIGHT
BEGIN:STANDARD
TZOFFSETFROM:-0400
TZOFFSETTO:-0500
TZNAME:EST
DTSTART:20261101T060000
END:STANDARD
END:VTIMEZONE
BEGIN:VEVENT
DTSTART;TZID=America/Detroit:20250710T200000
DTEND;TZID=America/Detroit:20250710T230000
DTSTAMP:20260423T150603
CREATED:20250408T150040Z
LAST-MODIFIED:20250513T154601Z
UID:10000876-1752177600-1752188400@theark.org
SUMMARY:Dustbowl Revival
DESCRIPTION:Ticket prices on our website reflect all-in pricing for purchases made online or by phone.  This means the price you see includes the ticket price plus MUTO’s ticket processing fee. Tickets may be purchased with no included fees in person at The Ark during box office hours. \nHow do you describe genre-defying roots music adventurers Dustbowl Revival? Even tireless founder and lead songwriter Z. Lupetin would agree you have to come to a show to find out. Going strong into their second decade after starting from a humble Craigslist ad posted in bohemian Venice Beach\, some would say Dustbowl’s ever-evolving collective (there have been nearly thirty members!) plays a spicy cocktail of folky-funk or booty-shaking jangly rock n’ soul: expertly mixing their New Orleans-tinted brass section with their signature Laurel Canyon harmonies and fearless lyrics. \nIn 2019 the group completed a successful run of performing art centers paying homage to their heroes in The Band and in 2025 Dustbowl is embarking on a new run of theaters and festivals showcasing the music of LA’s Laurel Canyon. A brassy Beatles cover will come this fall followed by a new record of originals slated for early 2025 – recorded in a cabin studio in Wisconsin with noted engineer Brian Joseph (Bon Iver\, Sufjan Stevens).  \nHowever you sip their sound\, Dustbowl Revival has become a beloved fixture of the Americana community – from playing tiny speakeasies and pubs around their southern California base\, to headlining thousands of shows in ten countries and counting. Indeed\, founder Z. Lupetin’s quixotic Craigslist ad hoping to find like-minded music-makers to play songs inspired equally by  Wilco\, Bob Dylan and Springsteen as Nina Simone\, Fleetwood Mac and Bill Withers may seem confusing\, but somehow it worked. \n“Maybe we don’t know where this journey will take us or how long it will last\,” acknowledges Lupetin\, “That’s my take on the importance of what we try to do. Music elevates us\, lifts us up\, makes us change our minds\, takes us out of our comfort zones. If just one person can be moved by just one song\, that’s enough.”
URL:https://theark.org/event/dustbowl-revival-250710/
LOCATION:The Ark\, 316 S. Main\, Ann Arbor\, MI\, 48104\, United States
ATTACH;FMTTYPE=image/jpeg:https://theark.org/wp-content/uploads/2024/05/Dustbowl-Revival-1.PC-Seth-Jacobson-1.jpg
END:VEVENT
END:VCALENDAR