BEGIN:VCALENDAR
VERSION:2.0
PRODID:-//The Ark - ECPv6.15.20//NONSGML v1.0//EN
CALSCALE:GREGORIAN
METHOD:PUBLISH
X-ORIGINAL-URL:https://theark.org
X-WR-CALDESC:Events for The Ark
REFRESH-INTERVAL;VALUE=DURATION:PT1H
X-Robots-Tag:noindex
X-PUBLISHED-TTL:PT1H
BEGIN:VTIMEZONE
TZID:America/Detroit
BEGIN:DAYLIGHT
TZOFFSETFROM:-0500
TZOFFSETTO:-0400
TZNAME:EDT
DTSTART:20240310T070000
END:DAYLIGHT
BEGIN:STANDARD
TZOFFSETFROM:-0400
TZOFFSETTO:-0500
TZNAME:EST
DTSTART:20241103T060000
END:STANDARD
BEGIN:DAYLIGHT
TZOFFSETFROM:-0500
TZOFFSETTO:-0400
TZNAME:EDT
DTSTART:20250309T070000
END:DAYLIGHT
BEGIN:STANDARD
TZOFFSETFROM:-0400
TZOFFSETTO:-0500
TZNAME:EST
DTSTART:20251102T060000
END:STANDARD
BEGIN:DAYLIGHT
TZOFFSETFROM:-0500
TZOFFSETTO:-0400
TZNAME:EDT
DTSTART:20260308T070000
END:DAYLIGHT
BEGIN:STANDARD
TZOFFSETFROM:-0400
TZOFFSETTO:-0500
TZNAME:EST
DTSTART:20261101T060000
END:STANDARD
END:VTIMEZONE
BEGIN:VEVENT
DTSTART;TZID=America/Detroit:20250703T200000
DTEND;TZID=America/Detroit:20250703T230000
DTSTAMP:20260425T172825
CREATED:20250501T140048Z
LAST-MODIFIED:20250514T150211Z
UID:10000899-1751572800-1751583600@theark.org
SUMMARY:Bandits on the Run
DESCRIPTION:Ticket prices on our website reflect all-in pricing for purchases made online or by phone.  This means the price you see includes the ticket price plus MUTO’s ticket processing fee. Tickets may be purchased with no included fees in person at The Ark during box office hours. \nBandits on the Run are a musical trio comprised of Adrian Blake Enscoe\, Sydney Shepherd\, and Regina Strayhorn\, known for their distinct combination of cello\, guitar\, accordion\, and found-percussion with sophisticated three-part harmonies and rotating lead vocals. The Brooklyn-based outfit sprang from a chance encounter while busking in NYC’s bustling subways and burst onto the national stage in 2019 when their song\, “Love in the Underground\,” was featured on the NPR Tiny Desk Contest’s Top Shelf\, with the esteemed tastemakers at the station proclaiming\, “the band orchestrates a symphony of sound and story through its impressive musicianship and marvelous harmonies.”  \nAfter recording their 2021 EP\, Now Is The Time\, with producer Ryan Hadlock (Brandi Carlile\, The Lumineers)\, the Bandits took to the screen\, devising a short musical film\, Band At The End Of The World\, commissioned by Prospect Musicals. Since then\, they have continued to explore the nexus of indie-folk music and theatrical storytelling\, composing music for the Netflix animated series\, Storybots\, scoring the movie\, The Same Storm\, adapting several songs from texts by William Shakespeare for a production of As You Like It\, and receiving an NEA grant for a new musical with Prospect Musicals\, all the while touring the globe with appearances at the Cambridge Folk Festival\, Floydfest\, Summerfest Milwaukee\, Americanafest\, F1 Singapore Grand Prix\, Mile of Music\, and the Rocky Mountain Folks Festival. \nBandits on the Run are currently working on the stage musical adaptation of the novel What’s Eating Gilbert Grape in association with MCC Theater\, alongside actor-musician Christopher Sears and Academy Award Nominee Peter Hedges\, who wrote the original book and screenplay.
URL:https://theark.org/event/bandits-on-the-run-250703/
LOCATION:The Ark\, 316 S. Main\, Ann Arbor\, MI\, 48104\, United States
ATTACH;FMTTYPE=image/jpeg:https://theark.org/wp-content/uploads/2025/04/bandits-on-the-run-20241119-e1746021806149.jpg
END:VEVENT
END:VCALENDAR